BEGIN:VCALENDAR
VERSION:2.0
PRODID:-//Bugweeds Limited - ECPv6.15.20//NONSGML v1.0//EN
CALSCALE:GREGORIAN
METHOD:PUBLISH
X-ORIGINAL-URL:https://bugweedslimited.co.uk
X-WR-CALDESC:Events for Bugweeds Limited
REFRESH-INTERVAL;VALUE=DURATION:PT1H
X-Robots-Tag:noindex
X-PUBLISHED-TTL:PT1H
BEGIN:VTIMEZONE
TZID:Europe/London
BEGIN:DAYLIGHT
TZOFFSETFROM:+0000
TZOFFSETTO:+0100
TZNAME:BST
DTSTART:20220327T010000
END:DAYLIGHT
BEGIN:STANDARD
TZOFFSETFROM:+0100
TZOFFSETTO:+0000
TZNAME:GMT
DTSTART:20221030T010000
END:STANDARD
BEGIN:DAYLIGHT
TZOFFSETFROM:+0000
TZOFFSETTO:+0100
TZNAME:BST
DTSTART:20230326T010000
END:DAYLIGHT
BEGIN:STANDARD
TZOFFSETFROM:+0100
TZOFFSETTO:+0000
TZNAME:GMT
DTSTART:20231029T010000
END:STANDARD
BEGIN:DAYLIGHT
TZOFFSETFROM:+0000
TZOFFSETTO:+0100
TZNAME:BST
DTSTART:20240331T010000
END:DAYLIGHT
BEGIN:STANDARD
TZOFFSETFROM:+0100
TZOFFSETTO:+0000
TZNAME:GMT
DTSTART:20241027T010000
END:STANDARD
END:VTIMEZONE
BEGIN:VEVENT
DTSTART;TZID=Europe/London:20231011T103000
DTEND;TZID=Europe/London:20231011T143000
DTSTAMP:20260423T071945
CREATED:20230925T130240Z
LAST-MODIFIED:20230925T131426Z
UID:10000064-1697020200-1697034600@bugweedslimited.co.uk
SUMMARY:Demystifying pattern packets and grading between sizes
DESCRIPTION:In this session Gill will demystify pattern packets. You will learn how to measure yourself\, find your size on the pattern\, grade between sizes if necessary and lengthen or shorten a pattern piece if required. \nMinor fitting issues such as grading between a couple of sizes\, or lengthening/shortening can be dealt with\, grading between a larger number of sizes may not be possible\, this may require more complex adjustments\, it will depend on the type of garment and the pieces. \nWhat do you need to bring? \nIf you have any of the following feel free to bring them with you otherwise you are welcome to borrow ours. \n\nFabric tape measure\nPencil\nPaper\nRuler\nHighlighter\n\nRequired sewing knowledge/experience \nThis session is suitable for beginners.
URL:https://bugweedslimited.co.uk/event/demystifying-pattern-packets-and-grading-between-sizes/
LOCATION:Bugweed’s Limited\, Bugweed's Limited\, Unit 3\, Marrtree Business Park\, Stirling Road\, York\, North Yorkshire\, YO30 4AB\, United Kingdom
CATEGORIES:Sewing
ATTACH;FMTTYPE=image/png:https://bugweedslimited.co.uk/wp-content/uploads/2023/09/Website-images-4.png
GEO:53.990512;-1.0966665
X-APPLE-STRUCTURED-LOCATION;VALUE=URI;X-ADDRESS=Bugweed’s Limited Bugweed's Limited Unit 3 Marrtree Business Park Stirling Road York North Yorkshire YO30 4AB United Kingdom;X-APPLE-RADIUS=500;X-TITLE=Bugweed's Limited\, Unit 3\, Marrtree Business Park\, Stirling Road:geo:-1.0966665,53.990512
END:VEVENT
END:VCALENDAR