BEGIN:VCALENDAR
VERSION:2.0
PRODID:-//Bugweeds Limited - ECPv6.15.20//NONSGML v1.0//EN
CALSCALE:GREGORIAN
METHOD:PUBLISH
X-ORIGINAL-URL:https://bugweedslimited.co.uk
X-WR-CALDESC:Events for Bugweeds Limited
REFRESH-INTERVAL;VALUE=DURATION:PT1H
X-Robots-Tag:noindex
X-PUBLISHED-TTL:PT1H
BEGIN:VTIMEZONE
TZID:Europe/London
BEGIN:DAYLIGHT
TZOFFSETFROM:+0000
TZOFFSETTO:+0100
TZNAME:BST
DTSTART:20220327T010000
END:DAYLIGHT
BEGIN:STANDARD
TZOFFSETFROM:+0100
TZOFFSETTO:+0000
TZNAME:GMT
DTSTART:20221030T010000
END:STANDARD
BEGIN:DAYLIGHT
TZOFFSETFROM:+0000
TZOFFSETTO:+0100
TZNAME:BST
DTSTART:20230326T010000
END:DAYLIGHT
BEGIN:STANDARD
TZOFFSETFROM:+0100
TZOFFSETTO:+0000
TZNAME:GMT
DTSTART:20231029T010000
END:STANDARD
BEGIN:DAYLIGHT
TZOFFSETFROM:+0000
TZOFFSETTO:+0100
TZNAME:BST
DTSTART:20240331T010000
END:DAYLIGHT
BEGIN:STANDARD
TZOFFSETFROM:+0100
TZOFFSETTO:+0000
TZNAME:GMT
DTSTART:20241027T010000
END:STANDARD
END:VTIMEZONE
BEGIN:VEVENT
DTSTART;TZID=Europe/London:20231028T133000
DTEND;TZID=Europe/London:20231028T153000
DTSTAMP:20260423T071957
CREATED:20230906T080457Z
LAST-MODIFIED:20230913T115557Z
UID:10000056-1698499800-1698507000@bugweedslimited.co.uk
SUMMARY:Block of the Month
DESCRIPTION:This month Helen will show you the art of free motion quilting and appliqué. \nWhat do you need to bring? \n\nSewing machine which must be able to drop the feed dogs or this will not work\nAttachment darning foot for your sewing machine\nContrast thread\nScissors\nQuilt sandwich 15″ square\n0.5mtr Bondaweb for appliqués\nFabric scraps for appliqués at least 6″ square\n\n 
URL:https://bugweedslimited.co.uk/event/block-of-the-month-2/
LOCATION:Bugweed’s Limited\, Bugweed's Limited\, Unit 3\, Marrtree Business Park\, Stirling Road\, York\, North Yorkshire\, YO30 4AB\, United Kingdom
CATEGORIES:Quilting
ATTACH;FMTTYPE=image/png:https://bugweedslimited.co.uk/wp-content/uploads/2023/09/October-Block-of-the-Month-Facebook-Post.png
GEO:53.990512;-1.0966665
X-APPLE-STRUCTURED-LOCATION;VALUE=URI;X-ADDRESS=Bugweed’s Limited Bugweed's Limited Unit 3 Marrtree Business Park Stirling Road York North Yorkshire YO30 4AB United Kingdom;X-APPLE-RADIUS=500;X-TITLE=Bugweed's Limited\, Unit 3\, Marrtree Business Park\, Stirling Road:geo:-1.0966665,53.990512
END:VEVENT
END:VCALENDAR