BEGIN:VCALENDAR
VERSION:2.0
PRODID:-//Bugweeds Limited - ECPv6.15.20//NONSGML v1.0//EN
CALSCALE:GREGORIAN
METHOD:PUBLISH
X-ORIGINAL-URL:https://bugweedslimited.co.uk
X-WR-CALDESC:Events for Bugweeds Limited
REFRESH-INTERVAL;VALUE=DURATION:PT1H
X-Robots-Tag:noindex
X-PUBLISHED-TTL:PT1H
BEGIN:VTIMEZONE
TZID:Europe/London
BEGIN:DAYLIGHT
TZOFFSETFROM:+0000
TZOFFSETTO:+0100
TZNAME:BST
DTSTART:20230326T010000
END:DAYLIGHT
BEGIN:STANDARD
TZOFFSETFROM:+0100
TZOFFSETTO:+0000
TZNAME:GMT
DTSTART:20231029T010000
END:STANDARD
BEGIN:DAYLIGHT
TZOFFSETFROM:+0000
TZOFFSETTO:+0100
TZNAME:BST
DTSTART:20240331T010000
END:DAYLIGHT
BEGIN:STANDARD
TZOFFSETFROM:+0100
TZOFFSETTO:+0000
TZNAME:GMT
DTSTART:20241027T010000
END:STANDARD
BEGIN:DAYLIGHT
TZOFFSETFROM:+0000
TZOFFSETTO:+0100
TZNAME:BST
DTSTART:20250330T010000
END:DAYLIGHT
BEGIN:STANDARD
TZOFFSETFROM:+0100
TZOFFSETTO:+0000
TZNAME:GMT
DTSTART:20251026T010000
END:STANDARD
END:VTIMEZONE
BEGIN:VEVENT
DTSTART;TZID=Europe/London:20240214T103000
DTEND;TZID=Europe/London:20240313T143000
DTSTAMP:20260420T114024
CREATED:20240110T124842Z
LAST-MODIFIED:20240110T131833Z
UID:10000114-1707906600-1710340200@bugweedslimited.co.uk
SUMMARY:Working with jersey: Making a hoodie or sweatshirt
DESCRIPTION:Please note this is a two part workshop. Part 1 will take place on Wednesday 14th February 10:30-2:30pm and part 2 Wednesday 13th March 10:30-2:30pm. Payment covers both sessions. \nThe pattern we will be using is the Waves & Wild Hot Coffee Sweatshirt. Please click here to view the pattern. \nThe pattern comes in a variety of sizes: adult\, teen and child. There is also a choice of fit options: curve or straight. Please let us know which one you would like when booking. \nSize range: XXS – 7XL – approx. UK 6 – 34/36– please use your body measurements compared to the sizing on the pattern\, do not use your ready to wear size to estimate the size needed on the pattern as they can vary significantly. \nPart 1 Wednesday 14th February  \nIn this session we will start to make our Hot Coffee sweatshirt or hoodie\, using knit/stretch fabric. \nMinor fitting issues such as grading between a couple of sizes\, or lengthening/shortening can be dealt with\, but fitting issue requiring more complex adjustments will not be possible in the time constraints of this session. If you typically experience fitting issues with ready to wear garments\, you should expect that you will need to adjust dressmaking patterns and the adjustments very much depend on the specific fitting issue and may not be possible in the time constraints of this session. \nAll internal seams and raw edges will be unfinished (there’s no need to finish stretch fabric raw edges). If you would like a professional finish to your project then you could overlock them\, however you will need to be confident using an overlocker. \nPart 2 Wednesday 13th March \nIn this session we will continue making our Hot Coffee sweatshirt or hoodie. \nMinor fitting issues such as grading between a couple of sizes\, or lengthening/shortening can be dealt with\, but fitting issue requiring more complex adjustments will not be possible in the time constraints of this session. If you typically experience fitting issues with ready to wear garments\, you should expect that you will need to adjust dressmaking patterns and the adjustments very much depend on the specific fitting issue and may not be possible in the time constraints of this session. \nAll internal seams and raw edges will be unfinished (there’s no need to finish stretch fabric raw edges). If you would like a professional finish to your project then you could overlock them\, however you will need to be confident using an overlocker. \nRequired sewing knowledge/experience for both sessions \nYou need to have good basic knowledge of a sewing machine and be able to sew a straight stitch. You will need to be familiar with your machine and how to use it’s basic features such as winding and inserting the bobbin\, threading up your machine and needle\, changing the feet and needle and sewing a straight stitch. For this session in particular you need to be familiar with your machines stretch and/or zigzag stitch. If you have neither you can use maraflex thread instead but please test this works ok with your machine before the workshop begins. This session is not suitable for complete sewing machine beginners. \nYou also need a basic understanding of using a dressmaking pattern. This session is not suitable for absolute beginners that haven’t got experience of using a sewing machine or making clothes using dressmaking patterns. \nWhat will you need to bring for both sessions? \nSuggested fabrics:  \nMain: Most medium weight knit fabrics. French terry and sweatshirt fleece are ideal. Cotton/Lycra jersey can also be used but being a thinner fabric the end garment will feel a little larger. Fabrics with 50% stretch are recommended. 4-way stretch is best but 2-way stretch will work. \nCuffs: Cotton/Lycra ribbing or this can be substituted with knit fabric that has 50% stretch \nFabric requirements:  \nMain: 140 cm (55″) wide fabric: Crew neck top\, 120 – 180 cm (1 3/8 – 2 yd) // Cowl neck top\, 150 – 230 cm (1 5/8 – 2 5/8 yd) // Hooded top\, 160 – 250 cm (1 3/4 – 2 3/4 yd) // Dress\, add 20 – 50 cm (1/4 – 5/8 yd). \nRibbing: 140 cm (55″) wide fabric: 30 cm (3/8 yd). \nIf you need to purchase fabric this needs to be done prior to the workshop to allow it to start on time. \nNotions: Thread\, If doing the patch pockets\, you will need a maximum of 60 cm (24”) of 6 mm (1/4″) elastic\, a stretch/ball point needle \nSewing machine: Your sewing machine needs to be able to sew a stretch stitch\, or at the absolute minimum a zigzag stitch. Alternatively\, if your machine does not have a stretch stitch you can use maraflex thread instead. Please check your machine sews ok with maraflex before the workshop\, as some machines don’t like it.
URL:https://bugweedslimited.co.uk/event/working-with-jersey-making-a-hoodie-or-sweatshirt/
LOCATION:North Yorkshire
CATEGORIES:Sewing
ATTACH;FMTTYPE=image/png:https://bugweedslimited.co.uk/wp-content/uploads/2024/01/Working-with-Jersey.png
END:VEVENT
BEGIN:VEVENT
DTSTART;TZID=Europe/London:20240223T103000
DTEND;TZID=Europe/London:20240223T123000
DTSTAMP:20260420T114024
CREATED:20231206T201317Z
LAST-MODIFIED:20231206T201549Z
UID:10000103-1708684200-1708691400@bugweedslimited.co.uk
SUMMARY:Help I've bought an overlocker
DESCRIPTION:The perfect course for beginners who want to learn the basics of how to use their overlocker. \nWhat will you learn on this course? \n\nThreading up\, in the correct order\nUnderstanding the parts\nUnderstanding and adjusting tension\nThe cutter\nChanging a needle\nLooking after your overlocker\, including cleaning\nRaising the knife\nAdjusting the stitch length\nAdjusting the cutting width\nHow to make sure it does not come unthreaded\nHow to easily rethread in a different colour\n\nWhat do you need to bring? \n\nYour overlocker and thread. Please let us know which machine you have when booking\n\nOur tutor \nOur tutor Debbie is a textiles teacher with over twenty years experience of teaching both art based textiles and technology. This has led to a wide range of skills in all areas of textiles\, from stitching on machines and by hand as well as manipulation of fabrics and materials.  \n 
URL:https://bugweedslimited.co.uk/event/help-ive-bought-an-overlocker-3/
LOCATION:Bugweed’s Limited\, Bugweed's Limited\, Unit 3\, Marrtree Business Park\, Stirling Road\, York\, North Yorkshire\, YO30 4AB\, United Kingdom
CATEGORIES:Sewing
ATTACH;FMTTYPE=image/png:https://bugweedslimited.co.uk/wp-content/uploads/2023/12/Help-Ive-bought-an-overlocker-Feb-23-3.png
GEO:53.990512;-1.0966665
X-APPLE-STRUCTURED-LOCATION;VALUE=URI;X-ADDRESS=Bugweed’s Limited Bugweed's Limited Unit 3 Marrtree Business Park Stirling Road York North Yorkshire YO30 4AB United Kingdom;X-APPLE-RADIUS=500;X-TITLE=Bugweed's Limited\, Unit 3\, Marrtree Business Park\, Stirling Road:geo:-1.0966665,53.990512
END:VEVENT
BEGIN:VEVENT
DTSTART;TZID=Europe/London:20240223T103000
DTEND;TZID=Europe/London:20240223T123000
DTSTAMP:20260420T114024
CREATED:20240201T121857Z
LAST-MODIFIED:20240222T110756Z
UID:10000128-1708684200-1708691400@bugweedslimited.co.uk
SUMMARY:Private Sewing Lesson 1st Feb
DESCRIPTION:Content is protected.
URL:https://bugweedslimited.co.uk/event/private-sewing-lesson-1st-feb/
LOCATION:Bugweed’s Limited\, Bugweed's Limited\, Unit 3\, Marrtree Business Park\, Stirling Road\, York\, North Yorkshire\, YO30 4AB\, United Kingdom
CATEGORIES:Sewing
GEO:53.990512;-1.0966665
X-APPLE-STRUCTURED-LOCATION;VALUE=URI;X-ADDRESS=Bugweed’s Limited Bugweed's Limited Unit 3 Marrtree Business Park Stirling Road York North Yorkshire YO30 4AB United Kingdom;X-APPLE-RADIUS=500;X-TITLE=Bugweed's Limited\, Unit 3\, Marrtree Business Park\, Stirling Road:geo:-1.0966665,53.990512
END:VEVENT
BEGIN:VEVENT
DTSTART;TZID=Europe/London:20240223T130000
DTEND;TZID=Europe/London:20240223T150000
DTSTAMP:20260420T114024
CREATED:20231206T203236Z
LAST-MODIFIED:20231206T203236Z
UID:10000104-1708693200-1708700400@bugweedslimited.co.uk
SUMMARY:How to get the most out of your overlocker
DESCRIPTION:If you know the basics but want to know more about how to get the most out of your overlocker then this is the course for you. \nWhat will you learn on this course? \n\nMake sure your machine is set up properly\nUsing it for gathering\nAdjusting the differential feed for different fabrics\nRoll hemming\nUnpicking seams\nBuying and using extra feet for blind stitch\, elasticator or cording\n\nWhat do you need to bring? \n\nYour overlocker and thread. Please let us know which machine you have when booking\n\nOur tutor \nOur tutor Debbie is a textiles teacher with over twenty years experience of teaching both art based textiles and technology. This has led to a wide range of skills in all areas of textiles\, from stitching on machines and by hand as well as manipulation of fabrics and materials.  \n 
URL:https://bugweedslimited.co.uk/event/how-to-get-the-most-out-of-your-overlocker-3/
LOCATION:Bugweed’s Limited\, Bugweed's Limited\, Unit 3\, Marrtree Business Park\, Stirling Road\, York\, North Yorkshire\, YO30 4AB\, United Kingdom
CATEGORIES:Sewing
ATTACH;FMTTYPE=image/png:https://bugweedslimited.co.uk/wp-content/uploads/2023/12/How-to-get-the-most-out-of-your-overlocker-Feb-24.png
GEO:53.990512;-1.0966665
X-APPLE-STRUCTURED-LOCATION;VALUE=URI;X-ADDRESS=Bugweed’s Limited Bugweed's Limited Unit 3 Marrtree Business Park Stirling Road York North Yorkshire YO30 4AB United Kingdom;X-APPLE-RADIUS=500;X-TITLE=Bugweed's Limited\, Unit 3\, Marrtree Business Park\, Stirling Road:geo:-1.0966665,53.990512
END:VEVENT
END:VCALENDAR