BEGIN:VCALENDAR
VERSION:2.0
PRODID:-//Bugweeds Limited - ECPv6.15.20//NONSGML v1.0//EN
CALSCALE:GREGORIAN
METHOD:PUBLISH
X-WR-CALNAME:Bugweeds Limited
X-ORIGINAL-URL:https://bugweedslimited.co.uk
X-WR-CALDESC:Events for Bugweeds Limited
REFRESH-INTERVAL;VALUE=DURATION:PT1H
X-Robots-Tag:noindex
X-PUBLISHED-TTL:PT1H
BEGIN:VTIMEZONE
TZID:Europe/London
BEGIN:DAYLIGHT
TZOFFSETFROM:+0000
TZOFFSETTO:+0100
TZNAME:BST
DTSTART:20230326T010000
END:DAYLIGHT
BEGIN:STANDARD
TZOFFSETFROM:+0100
TZOFFSETTO:+0000
TZNAME:GMT
DTSTART:20231029T010000
END:STANDARD
BEGIN:DAYLIGHT
TZOFFSETFROM:+0000
TZOFFSETTO:+0100
TZNAME:BST
DTSTART:20240331T010000
END:DAYLIGHT
BEGIN:STANDARD
TZOFFSETFROM:+0100
TZOFFSETTO:+0000
TZNAME:GMT
DTSTART:20241027T010000
END:STANDARD
BEGIN:DAYLIGHT
TZOFFSETFROM:+0000
TZOFFSETTO:+0100
TZNAME:BST
DTSTART:20250330T010000
END:DAYLIGHT
BEGIN:STANDARD
TZOFFSETFROM:+0100
TZOFFSETTO:+0000
TZNAME:GMT
DTSTART:20251026T010000
END:STANDARD
END:VTIMEZONE
BEGIN:VEVENT
DTSTART;TZID=Europe/London:20240511T133000
DTEND;TZID=Europe/London:20240608T153000
DTSTAMP:20260420T032752
CREATED:20240415T201714Z
LAST-MODIFIED:20240415T201714Z
UID:10000156-1715434200-1717860600@bugweedslimited.co.uk
SUMMARY:Sewing School: Making a dress with French seams
DESCRIPTION:Please note this is a two part workshop. Part 1 will take place on Saturday 11th May 1:30-4pm and part 2 Saturday 8th June 10:30-3:30pm. Payment covers both sessions. \nPart 1 Saturday 11th May 1:30-4pm \nThe pattern we will be using is the Sew Different Triple tuck smock dress. Please click here to view the pattern. \n\n\nIn this session we will accurately take our body measurements to determine what size or sizes we will need to use with the pattern. We will then prepare our pattern and cut out our fabric\, transferring all pattern markings and finishing the raw edges with an overlocker. This means we will be ready to sew our dress in the next session. \n\n\nSize range: approximately UK 8-26 – please use your body measurements compared to the sizing on the pattern\, do not use your ready to wear size to estimate the size needed on the pattern as they can vary significantly. \n\nMinor fitting issues such as grading between a couple of sizes\, or lengthening/shortening can be dealt with\, but fitting issue requiring more complex adjustments will not be possible in the time constraints of this session. If you typically experience fitting issues with ready to wear garments\, you should expect that you will need to adjust dressmaking patterns and the adjustments very much depend on the specific fitting issue. \n\n\nPart 2 Saturday 8th June 10:30-3:30pm \n\n\n\nIn this session we will sew our using French seams. \n\n\nMinor fitting issues such as grading between a couple of sizes\, or lengthening/shortening can be dealt with\, but fitting issue requiring more complex adjustments will not be possible in the time constraints of this session. If you typically experience fitting issues with ready to wear garments\, you should expect that you will need to adjust dressmaking patterns and the adjustments very much depend on the specific fitting issue. \n\n\n\nRequired sewing knowledge/experience for both sessions \nYou need to have good basic knowledge of a sewing machine and be able to sew a straight stitch. You will need to be familiar with your machine and how to use it’s basic features such as winding and inserting the bobbin\, threading up your machine and needle\, changing the feet and needle and sewing a straight stitch. This session is not suitable for complete sewing machine beginners. \nYou also need a basic understanding of using a garment pattern. This session is not suitable for absolute beginners that haven’t got experience of using a sewing machine or making clothes using garment patterns. \nWhat will you need to bring for both sessions? \n\nYour sewing machine and instruction book\nThread\nIron on interfacing (0.5 m)\nFabric (see below for measurements and suggestions of fabric types)\n\nSuggested fabrics:  \n\nSuggested fabrics: Cotton\, linen\, viscose – only use viscose if you are a confident sewer and have used it several times before. \n\n\nFabric requirements:  \n\n\n\n150 cm (60″) wide fabric: Sizes 8 – 18\, 1.75 m (2 yd) // Sizes 20 – 26\, 2.5 m (2.75 yd). \n\n\n112 cm (45″) wide fabric: Sizes 8 – 18\, 2.5 m (2.75 yd) // Sizes 20 – 26\, 3 m (3.25 yd). \n\nIf you need to purchase any supplies for this workshop contact our sister company Bugweed’s Fabrics. All purchases need to be done before the workshop to allow the workshop to start on time.
URL:https://bugweedslimited.co.uk/event/sewing-school-making-a-dress-with-french-seams/
LOCATION:Bugweed’s Limited\, Bugweed's Limited\, Unit 3\, Marrtree Business Park\, Stirling Road\, York\, North Yorkshire\, YO30 4AB\, United Kingdom
CATEGORIES:Sewing
ATTACH;FMTTYPE=image/png:https://bugweedslimited.co.uk/wp-content/uploads/2024/04/7.png
GEO:53.990512;-1.0966665
X-APPLE-STRUCTURED-LOCATION;VALUE=URI;X-ADDRESS=Bugweed’s Limited Bugweed's Limited Unit 3 Marrtree Business Park Stirling Road York North Yorkshire YO30 4AB United Kingdom;X-APPLE-RADIUS=500;X-TITLE=Bugweed's Limited\, Unit 3\, Marrtree Business Park\, Stirling Road:geo:-1.0966665,53.990512
END:VEVENT
BEGIN:VEVENT
DTSTART;TZID=Europe/London:20240521T190000
DTEND;TZID=Europe/London:20240521T210000
DTSTAMP:20260420T032752
CREATED:20240411T185027Z
LAST-MODIFIED:20240430T185111Z
UID:10000150-1716318000-1716325200@bugweedslimited.co.uk
SUMMARY:Crochet granny squares
DESCRIPTION:Join Debbie and learn how to crochet granny squares \nLearn how to use treble crochet\, stitch in the round and try several types of pattern to form a granny square\, also the opportuntity to try double treble stitch and puff stitch. \nLeft or right handed. Everyone is welcome. \nWhat do I need to bring? \nA 4mm crochet hook and DK yarn. If you would like to make multi coloured granny squares please bring several colours of yarn with you. \nPrevious experience required? \nThis session is designed for adult beginners who have some experience of crochet. You should be able to do a chain and double crochet.
URL:https://bugweedslimited.co.uk/event/crochet-granny-squares/
LOCATION:Bugweed’s Limited\, Bugweed's Limited\, Unit 3\, Marrtree Business Park\, Stirling Road\, York\, North Yorkshire\, YO30 4AB\, United Kingdom
CATEGORIES:Crochet
ATTACH;FMTTYPE=image/png:https://bugweedslimited.co.uk/wp-content/uploads/2024/04/Crochet-granny-squares-2.png
GEO:53.990512;-1.0966665
X-APPLE-STRUCTURED-LOCATION;VALUE=URI;X-ADDRESS=Bugweed’s Limited Bugweed's Limited Unit 3 Marrtree Business Park Stirling Road York North Yorkshire YO30 4AB United Kingdom;X-APPLE-RADIUS=500;X-TITLE=Bugweed's Limited\, Unit 3\, Marrtree Business Park\, Stirling Road:geo:-1.0966665,53.990512
END:VEVENT
END:VCALENDAR