BEGIN:VCALENDAR
VERSION:2.0
PRODID:-//Bugweeds Limited - ECPv6.15.20//NONSGML v1.0//EN
CALSCALE:GREGORIAN
METHOD:PUBLISH
X-ORIGINAL-URL:https://bugweedslimited.co.uk
X-WR-CALDESC:Events for Bugweeds Limited
REFRESH-INTERVAL;VALUE=DURATION:PT1H
X-Robots-Tag:noindex
X-PUBLISHED-TTL:PT1H
BEGIN:VTIMEZONE
TZID:Europe/London
BEGIN:DAYLIGHT
TZOFFSETFROM:+0000
TZOFFSETTO:+0100
TZNAME:BST
DTSTART:20230326T010000
END:DAYLIGHT
BEGIN:STANDARD
TZOFFSETFROM:+0100
TZOFFSETTO:+0000
TZNAME:GMT
DTSTART:20231029T010000
END:STANDARD
BEGIN:DAYLIGHT
TZOFFSETFROM:+0000
TZOFFSETTO:+0100
TZNAME:BST
DTSTART:20240331T010000
END:DAYLIGHT
BEGIN:STANDARD
TZOFFSETFROM:+0100
TZOFFSETTO:+0000
TZNAME:GMT
DTSTART:20241027T010000
END:STANDARD
BEGIN:DAYLIGHT
TZOFFSETFROM:+0000
TZOFFSETTO:+0100
TZNAME:BST
DTSTART:20250330T010000
END:DAYLIGHT
BEGIN:STANDARD
TZOFFSETFROM:+0100
TZOFFSETTO:+0000
TZNAME:GMT
DTSTART:20251026T010000
END:STANDARD
END:VTIMEZONE
BEGIN:VEVENT
DTSTART;TZID=Europe/London:20240710T103000
DTEND;TZID=Europe/London:20240710T143000
DTSTAMP:20260419T153608
CREATED:20240415T192610Z
LAST-MODIFIED:20240415T192610Z
UID:10000153-1720607400-1720621800@bugweedslimited.co.uk
SUMMARY:Introduction to assessing trouser fitting issues
DESCRIPTION:This session is all about assessing trouser fitting issues\, and the adjustments needed to get a better fit. You will learn how to recognise the type of adjustment that’s needed\, including: \n\nFull tummy\nCrotch curves (aka ‘camel toe’ & ‘hungry bum’)\nFull and flat bum\nFull and thin thighs\nFull calf\n\nYou will also have lengthened and shortened a crotch and completed a tummy or bum adjustment on a pattern piece. \n\nWhat do you need to bring? \nFeel free to bring a pair of trousers you don’t think fit you very well. Everything else will be provided. \nRequired sewing knowledge/experience \nYou also need a basic understanding of using a garment pattern. This session is not suitable for absolute beginners that haven’t got experience of using a sewing machine or making clothes using garment patterns.
URL:https://bugweedslimited.co.uk/event/introduction-to-assessing-trouser-fitting-issues/
LOCATION:Bugweed’s Limited\, Bugweed's Limited\, Unit 3\, Marrtree Business Park\, Stirling Road\, York\, North Yorkshire\, YO30 4AB\, United Kingdom
CATEGORIES:Sewing
ATTACH;FMTTYPE=image/png:https://bugweedslimited.co.uk/wp-content/uploads/2024/04/Sewing-School-3.png
GEO:53.990512;-1.0966665
X-APPLE-STRUCTURED-LOCATION;VALUE=URI;X-ADDRESS=Bugweed’s Limited Bugweed's Limited Unit 3 Marrtree Business Park Stirling Road York North Yorkshire YO30 4AB United Kingdom;X-APPLE-RADIUS=500;X-TITLE=Bugweed's Limited\, Unit 3\, Marrtree Business Park\, Stirling Road:geo:-1.0966665,53.990512
END:VEVENT
END:VCALENDAR