BEGIN:VCALENDAR
VERSION:2.0
PRODID:-//Bugweeds Limited - ECPv6.15.20//NONSGML v1.0//EN
CALSCALE:GREGORIAN
METHOD:PUBLISH
X-WR-CALNAME:Bugweeds Limited
X-ORIGINAL-URL:https://bugweedslimited.co.uk
X-WR-CALDESC:Events for Bugweeds Limited
REFRESH-INTERVAL;VALUE=DURATION:PT1H
X-Robots-Tag:noindex
X-PUBLISHED-TTL:PT1H
BEGIN:VTIMEZONE
TZID:Europe/London
BEGIN:DAYLIGHT
TZOFFSETFROM:+0000
TZOFFSETTO:+0100
TZNAME:BST
DTSTART:20230326T010000
END:DAYLIGHT
BEGIN:STANDARD
TZOFFSETFROM:+0100
TZOFFSETTO:+0000
TZNAME:GMT
DTSTART:20231029T010000
END:STANDARD
BEGIN:DAYLIGHT
TZOFFSETFROM:+0000
TZOFFSETTO:+0100
TZNAME:BST
DTSTART:20240331T010000
END:DAYLIGHT
BEGIN:STANDARD
TZOFFSETFROM:+0100
TZOFFSETTO:+0000
TZNAME:GMT
DTSTART:20241027T010000
END:STANDARD
BEGIN:DAYLIGHT
TZOFFSETFROM:+0000
TZOFFSETTO:+0100
TZNAME:BST
DTSTART:20250330T010000
END:DAYLIGHT
BEGIN:STANDARD
TZOFFSETFROM:+0100
TZOFFSETTO:+0000
TZNAME:GMT
DTSTART:20251026T010000
END:STANDARD
END:VTIMEZONE
BEGIN:VEVENT
DTSTART;TZID=Europe/London:20240911T103000
DTEND;TZID=Europe/London:20240911T143000
DTSTAMP:20260423T055240
CREATED:20240808T104017Z
LAST-MODIFIED:20240903T131357Z
UID:10000170-1726050600-1726065000@bugweedslimited.co.uk
SUMMARY:Sewing School: Buttonhole Skills Session
DESCRIPTION:This session is all about buttonholes. Gill will share her hints and tips on buttonholes\, including how to prepare your buttonhole before sewing\, techniques for buttonhole placement\, using an automatic button function\, using a stepped buttonhole function\, sewing a buttonhole without any automation. By the end of the session you will: \n\nHave sewn a buttonhole using an automatic buttonhole function (if your machine is compatible)\nHave sewn a buttonhole using a stepped buttonhole function (if your machine is compatible)\nHave sewn a buttonhole without any automation\nLearnt techniques for preparing your buttonhole before sewing it\, to avoid problems\nSewn at least two buttonholes that are lined up\nUnderstand the key principles of button placement\n\nRequired sewing knowledge and experience \nA good basic knowledge of a sewing machine and be able to sew a straight stitch. Attendees need to be familiar with loading a bobbin\, changing a needle and changing the foot on their sewing machine. \nThis session is not suitable for absolute beginners that haven’t got experience of using a sewing machine or sewing fabric together. \nFabric and tool requirements \nPlease bring your own sewing machine and supplies with you. You will need to have a buttonhole foot\, buttonhole stabiliser plates\, two colours of thread – a contrasting colour to be used in the bobbin and marking tools (preferably a heat erasable pen). \nEverything else you will need will be provided for the workshop.
URL:https://bugweedslimited.co.uk/event/sewing-school-buttonholes-skills-session-sept-2024/
LOCATION:Bugweed’s Limited\, Bugweed's Limited\, Unit 3\, Marrtree Business Park\, Stirling Road\, York\, North Yorkshire\, YO30 4AB\, United Kingdom
CATEGORIES:Sewing
ATTACH;FMTTYPE=image/png:https://bugweedslimited.co.uk/wp-content/uploads/2024/08/6.png
GEO:53.990512;-1.0966665
X-APPLE-STRUCTURED-LOCATION;VALUE=URI;X-ADDRESS=Bugweed’s Limited Bugweed's Limited Unit 3 Marrtree Business Park Stirling Road York North Yorkshire YO30 4AB United Kingdom;X-APPLE-RADIUS=500;X-TITLE=Bugweed's Limited\, Unit 3\, Marrtree Business Park\, Stirling Road:geo:-1.0966665,53.990512
END:VEVENT
END:VCALENDAR