BEGIN:VCALENDAR
VERSION:2.0
PRODID:-//Bugweeds Limited - ECPv6.15.20//NONSGML v1.0//EN
CALSCALE:GREGORIAN
METHOD:PUBLISH
X-ORIGINAL-URL:https://bugweedslimited.co.uk
X-WR-CALDESC:Events for Bugweeds Limited
REFRESH-INTERVAL;VALUE=DURATION:PT1H
X-Robots-Tag:noindex
X-PUBLISHED-TTL:PT1H
BEGIN:VTIMEZONE
TZID:Europe/London
BEGIN:DAYLIGHT
TZOFFSETFROM:+0000
TZOFFSETTO:+0100
TZNAME:BST
DTSTART:20240331T010000
END:DAYLIGHT
BEGIN:STANDARD
TZOFFSETFROM:+0100
TZOFFSETTO:+0000
TZNAME:GMT
DTSTART:20241027T010000
END:STANDARD
BEGIN:DAYLIGHT
TZOFFSETFROM:+0000
TZOFFSETTO:+0100
TZNAME:BST
DTSTART:20250330T010000
END:DAYLIGHT
BEGIN:STANDARD
TZOFFSETFROM:+0100
TZOFFSETTO:+0000
TZNAME:GMT
DTSTART:20251026T010000
END:STANDARD
BEGIN:DAYLIGHT
TZOFFSETFROM:+0000
TZOFFSETTO:+0100
TZNAME:BST
DTSTART:20260329T010000
END:DAYLIGHT
BEGIN:STANDARD
TZOFFSETFROM:+0100
TZOFFSETTO:+0000
TZNAME:GMT
DTSTART:20261025T010000
END:STANDARD
END:VTIMEZONE
BEGIN:VEVENT
DTSTART;TZID=Europe/London:20250708T130000
DTEND;TZID=Europe/London:20250708T150000
DTSTAMP:20260421T103656
CREATED:20250415T201549Z
LAST-MODIFIED:20250415T201549Z
UID:10000245-1751979600-1751986800@bugweedslimited.co.uk
SUMMARY:Stitch@Starbucks
DESCRIPTION:Here at Bugweed’s we love a good chat\, time for craft and a tasty cuppa! This weekly session brings you all three of those in one free group! \nJoin us at Clifton Moor Starbucks every Tuesday (including through the school holidays) from 1pm till 3pm for a guaranteed friendly welcome and discounted refreshments supplied by the lovely staff of Starbucks. \nNo need to book but if you would like to be part of our active WhatsApp group where we share yarn ideas and check how many people are coming\, please get in touch and we can add you! Please note – this group is growing and space can be limited so if you can let us know if you would like to come\, it does help! \nWhat shall I bring? \n\nyour project\nmoney for a drink if you would like one\na good sense of humour!!
URL:https://bugweedslimited.co.uk/event/stitchstarbucks/2025-07-08/
LOCATION:Starbucks\, Clifton Moor\, Stirling Road\, York\, North Yorkshire\, YO30 4TU\, United Kingdom
CATEGORIES:Social
ATTACH;FMTTYPE=image/jpeg:https://bugweedslimited.co.uk/wp-content/uploads/2025/03/IMG_4530.jpeg
END:VEVENT
BEGIN:VEVENT
DTSTART;TZID=Europe/London:20250708T190000
DTEND;TZID=Europe/London:20250708T210000
DTSTAMP:20260421T103656
CREATED:20250703T161019Z
LAST-MODIFIED:20250703T161019Z
UID:10001048-1752001200-1752008400@bugweedslimited.co.uk
SUMMARY:Help I've bought an overlocker!
DESCRIPTION:The perfect course for beginners who want to learn the basics of how to use their overlocker. \nWhat will you learn on this course? \n\nThreading up\, in the correct order\nUnderstanding the parts\nUnderstanding and adjusting tension\nThe cutter\nChanging a needle\nLooking after your overlocker\, including cleaning\nRaising the knife\nAdjusting the stitch length\nAdjusting the cutting width\nHow to make sure it does not come unthreaded\nHow to easily rethread in a different colour\nHow to gather using your overlocker\nSome simple hem techniques\n\nWhat do you need to bring? \n\nYour overlocker and thread. Please let us know which machine you have when booking\n\nOur tutor \nOur tutor Debbie is a textiles teacher with over twenty years experience of teaching both art based textiles and technology. This has led to a wide range of skills in all areas of textiles\, from stitching on machines and by hand as well as manipulation of fabrics and materials.  \n 
URL:https://bugweedslimited.co.uk/event/help-ive-bought-an-overlocker-7/
LOCATION:Bugweed’s Limited\, Bugweed's Limited\, Unit 3\, Marrtree Business Park\, Stirling Road\, York\, North Yorkshire\, YO30 4AB\, United Kingdom
CATEGORIES:Sewing
GEO:53.990512;-1.0966665
X-APPLE-STRUCTURED-LOCATION;VALUE=URI;X-ADDRESS=Bugweed’s Limited Bugweed's Limited Unit 3 Marrtree Business Park Stirling Road York North Yorkshire YO30 4AB United Kingdom;X-APPLE-RADIUS=500;X-TITLE=Bugweed's Limited\, Unit 3\, Marrtree Business Park\, Stirling Road:geo:-1.0966665,53.990512
END:VEVENT
END:VCALENDAR