BEGIN:VCALENDAR
VERSION:2.0
PRODID:-//Bugweeds Limited - ECPv6.15.20//NONSGML v1.0//EN
CALSCALE:GREGORIAN
METHOD:PUBLISH
X-WR-CALNAME:Bugweeds Limited
X-ORIGINAL-URL:https://bugweedslimited.co.uk
X-WR-CALDESC:Events for Bugweeds Limited
REFRESH-INTERVAL;VALUE=DURATION:PT1H
X-Robots-Tag:noindex
X-PUBLISHED-TTL:PT1H
BEGIN:VTIMEZONE
TZID:Europe/London
BEGIN:DAYLIGHT
TZOFFSETFROM:+0000
TZOFFSETTO:+0100
TZNAME:BST
DTSTART:20240331T010000
END:DAYLIGHT
BEGIN:STANDARD
TZOFFSETFROM:+0100
TZOFFSETTO:+0000
TZNAME:GMT
DTSTART:20241027T010000
END:STANDARD
BEGIN:DAYLIGHT
TZOFFSETFROM:+0000
TZOFFSETTO:+0100
TZNAME:BST
DTSTART:20250330T010000
END:DAYLIGHT
BEGIN:STANDARD
TZOFFSETFROM:+0100
TZOFFSETTO:+0000
TZNAME:GMT
DTSTART:20251026T010000
END:STANDARD
BEGIN:DAYLIGHT
TZOFFSETFROM:+0000
TZOFFSETTO:+0100
TZNAME:BST
DTSTART:20260329T010000
END:DAYLIGHT
BEGIN:STANDARD
TZOFFSETFROM:+0100
TZOFFSETTO:+0000
TZNAME:GMT
DTSTART:20261025T010000
END:STANDARD
END:VTIMEZONE
BEGIN:VEVENT
DTSTART;TZID=Europe/London:20250804T130000
DTEND;TZID=Europe/London:20250804T153000
DTSTAMP:20260420T161136
CREATED:20250724T110713Z
LAST-MODIFIED:20250801T113809Z
UID:10001053-1754312400-1754321400@bugweedslimited.co.uk
SUMMARY:Bloom Together - Embroidery in 3d
DESCRIPTION:Our summer holiday workshops are all about creativity through textiles and media and are aimed at children and adults developing their skills in a range of areas and more importantly a chance to create and develop a love of being free to create. \nJoin Debbie on this teen (12+) or adult workshop to create 3d flora and forna sculptures using embroidery and solufleece. Solufleece is a wash-away interfacing used create a structure on which to decorate. Once rinsed\, only the decoration is left and the interfacing has disappeared! This is often used in textiles art and is a great way to bring your sewing ideas into the 3d world! \nThis workshop will be a sewing machine based session. Machines can be provided but we encourage you to bring your own – it’s a great way to learn on them! \nWhat will I need to bring? \n\nsewing machine that you can drop the feed-dogs on (Please get in touch if you need help with this!)\nan open toe embroidery foot/ free motion embroidery foot\ncreativity and enthusiasm!\n\nAll materials are included in the price! There will be a short break in the workshop with refreshments. \nWe are a neurodivergent friendly studio and understand that some people need more breaks than others. If you or your teen requires workshop adjustments please get in touch and let us know. We are more than happy to accommodate a range of needs. \nPlease note\, this workshop is for individuals over 12 years old. We also welcome teens who would prefer to have their adult with them. Only book a place for those who are creating sculptures.
URL:https://bugweedslimited.co.uk/event/bloom-together-embroidery-in-3d/
LOCATION:Bugweed’s Limited\, Bugweed's Limited\, Unit 3\, Marrtree Business Park\, Stirling Road\, York\, North Yorkshire\, YO30 4AB\, United Kingdom
CATEGORIES:Children's workshop,Sewing,textile art
ATTACH;FMTTYPE=image/jpeg:https://bugweedslimited.co.uk/wp-content/uploads/2025/07/IMG_5574.jpeg
GEO:53.990512;-1.0966665
X-APPLE-STRUCTURED-LOCATION;VALUE=URI;X-ADDRESS=Bugweed’s Limited Bugweed's Limited Unit 3 Marrtree Business Park Stirling Road York North Yorkshire YO30 4AB United Kingdom;X-APPLE-RADIUS=500;X-TITLE=Bugweed's Limited\, Unit 3\, Marrtree Business Park\, Stirling Road:geo:-1.0966665,53.990512
END:VEVENT
END:VCALENDAR