BEGIN:VCALENDAR
VERSION:2.0
PRODID:-//Bugweeds Limited - ECPv6.15.20//NONSGML v1.0//EN
CALSCALE:GREGORIAN
METHOD:PUBLISH
X-ORIGINAL-URL:https://bugweedslimited.co.uk
X-WR-CALDESC:Events for Bugweeds Limited
REFRESH-INTERVAL;VALUE=DURATION:PT1H
X-Robots-Tag:noindex
X-PUBLISHED-TTL:PT1H
BEGIN:VTIMEZONE
TZID:Europe/London
BEGIN:DAYLIGHT
TZOFFSETFROM:+0000
TZOFFSETTO:+0100
TZNAME:BST
DTSTART:20240331T010000
END:DAYLIGHT
BEGIN:STANDARD
TZOFFSETFROM:+0100
TZOFFSETTO:+0000
TZNAME:GMT
DTSTART:20241027T010000
END:STANDARD
BEGIN:DAYLIGHT
TZOFFSETFROM:+0000
TZOFFSETTO:+0100
TZNAME:BST
DTSTART:20250330T010000
END:DAYLIGHT
BEGIN:STANDARD
TZOFFSETFROM:+0100
TZOFFSETTO:+0000
TZNAME:GMT
DTSTART:20251026T010000
END:STANDARD
BEGIN:DAYLIGHT
TZOFFSETFROM:+0000
TZOFFSETTO:+0100
TZNAME:BST
DTSTART:20260329T010000
END:DAYLIGHT
BEGIN:STANDARD
TZOFFSETFROM:+0100
TZOFFSETTO:+0000
TZNAME:GMT
DTSTART:20261025T010000
END:STANDARD
END:VTIMEZONE
BEGIN:VEVENT
DTSTART;TZID=Europe/London:20250927T103000
DTEND;TZID=Europe/London:20250927T150000
DTSTAMP:20260422T022156
CREATED:20250911T110930Z
LAST-MODIFIED:20250911T110930Z
UID:10001067-1758969000-1758985200@bugweedslimited.co.uk
SUMMARY:Block of the Month
DESCRIPTION:This month Helen will guide you through piecing a beautiful Double Wedding Ring block. Use up some of your scrap stash or treat yourself to some fat quarters and a contrasting plain to create a stunning block! \nPlease note this is will be repeated on the October BOTM. Please refrain from attending both sessions\, thank you! \nWhat do you need to bring? \n\nTemplate for Double Wedding Ring (please ask for more details if needed)\nFabric scraps at least 3″ square for pieced rings\nFat quarter of contrasting fabric if doing plain rings rather than pieced rings\n0.5m background fabric\nThread\n28mm rotary cutter\n1/4” foot or capability to move needle on your machine to 1/4” (ABSOLUTELY NECESSARY)\nfabric marking pen\n\nA nice to have- \n\nRotating cutting mat – can be ordered from Bugweed’s in advance!\n\nRequired sewing knowledge/experience \nThis workshop is suitable for intermediate quilters. You will need to be familiar with your machine and how to use it’s features such as winding and inserting the bobbin\, threading up your machine and needle\, changing the feet and needle and sewing a straight stitch. This session is not suitable for complete sewing machine beginners. You must have a 1/4″ foot or the ability to move your needle to the 1/4″ seam allowance. Please get in touch with Bugweed’s if you would like help in sourcing the supplies required.
URL:https://bugweedslimited.co.uk/event/block-of-the-month-september/
LOCATION:Bugweed’s Limited\, Bugweed's Limited\, Unit 3\, Marrtree Business Park\, Stirling Road\, York\, North Yorkshire\, YO30 4AB\, United Kingdom
CATEGORIES:Quilting
ATTACH;FMTTYPE=image/png:https://bugweedslimited.co.uk/wp-content/uploads/2025/09/Quick-Quilting-Day-Workshops.png
GEO:53.990512;-1.0966665
X-APPLE-STRUCTURED-LOCATION;VALUE=URI;X-ADDRESS=Bugweed’s Limited Bugweed's Limited Unit 3 Marrtree Business Park Stirling Road York North Yorkshire YO30 4AB United Kingdom;X-APPLE-RADIUS=500;X-TITLE=Bugweed's Limited\, Unit 3\, Marrtree Business Park\, Stirling Road:geo:-1.0966665,53.990512
END:VEVENT
END:VCALENDAR