BEGIN:VCALENDAR
VERSION:2.0
PRODID:-//Bugweeds Limited - ECPv6.15.20//NONSGML v1.0//EN
CALSCALE:GREGORIAN
METHOD:PUBLISH
X-WR-CALNAME:Bugweeds Limited
X-ORIGINAL-URL:https://bugweedslimited.co.uk
X-WR-CALDESC:Events for Bugweeds Limited
REFRESH-INTERVAL;VALUE=DURATION:PT1H
X-Robots-Tag:noindex
X-PUBLISHED-TTL:PT1H
BEGIN:VTIMEZONE
TZID:Europe/London
BEGIN:DAYLIGHT
TZOFFSETFROM:+0000
TZOFFSETTO:+0100
TZNAME:BST
DTSTART:20240331T010000
END:DAYLIGHT
BEGIN:STANDARD
TZOFFSETFROM:+0100
TZOFFSETTO:+0000
TZNAME:GMT
DTSTART:20241027T010000
END:STANDARD
BEGIN:DAYLIGHT
TZOFFSETFROM:+0000
TZOFFSETTO:+0100
TZNAME:BST
DTSTART:20250330T010000
END:DAYLIGHT
BEGIN:STANDARD
TZOFFSETFROM:+0100
TZOFFSETTO:+0000
TZNAME:GMT
DTSTART:20251026T010000
END:STANDARD
BEGIN:DAYLIGHT
TZOFFSETFROM:+0000
TZOFFSETTO:+0100
TZNAME:BST
DTSTART:20260329T010000
END:DAYLIGHT
BEGIN:STANDARD
TZOFFSETFROM:+0100
TZOFFSETTO:+0000
TZNAME:GMT
DTSTART:20261025T010000
END:STANDARD
END:VTIMEZONE
BEGIN:VEVENT
DTSTART;TZID=Europe/London:20250805T190000
DTEND;TZID=Europe/London:20250805T210000
DTSTAMP:20260420T080405
CREATED:20250710T202007Z
LAST-MODIFIED:20250801T115057Z
UID:10001050-1754420400-1754427600@bugweedslimited.co.uk
SUMMARY:Embracing Creativity: Photographs on Fabric
DESCRIPTION:Come to Bugweed’s and enjoy embracing your creative side! \nHave you been intrigued by photos on fabric? Are you thinking about how to include a photo in a piece of textile art or on a memory item? Well this workshop is definitely for you! \nDebbie will lead you through the process from your photo printed on Rico Creative Fabric to embellishing it with collage\, embroidery and other such techniques. This is your chance to make something really fun to cherish or even give as a gift to a loved one. \nAll materials are included in the cost of the workshop – the Creative Paper is £5 per sheet and is also included! Bring your sewing machine if you would like to use some of the stitches that your machine provides. \nYou will need to send us your photo which we can then prepare for printing. It will be printed before the workshop for you but the process will be demonstrated on the evening. This will help you maximise the workshop time for embellishment and creativity! Please get in touch after booking your place on info@bugweedslimited.co.uk and we will get back to you about the photo requirements. \nYou will need to bring \n\nyour sewing machine if needed\nany specific embellishments that you are wanting to use\nyour creativity!\n\nYou will achieve \n\nusing photos in a new way on fabric\nlearning different embellishment techniques\nexploring your creativity through mindful sewing and art\n\nThis workshop is aimed at all creatives aged 16 and over who are looking to enhance their skills in textiles and art. This is a perfect workshop for those individuals who are starting a textiles or art qualification in September.
URL:https://bugweedslimited.co.uk/event/photographs-on-fabric/
LOCATION:Bugweed’s Limited\, Bugweed's Limited\, Unit 3\, Marrtree Business Park\, Stirling Road\, York\, North Yorkshire\, YO30 4AB\, United Kingdom
CATEGORIES:Embroidery,textile art
ATTACH;FMTTYPE=image/png:https://bugweedslimited.co.uk/wp-content/uploads/2025/07/Copy-of-Embracing-creativity.png
GEO:53.990512;-1.0966665
X-APPLE-STRUCTURED-LOCATION;VALUE=URI;X-ADDRESS=Bugweed’s Limited Bugweed's Limited Unit 3 Marrtree Business Park Stirling Road York North Yorkshire YO30 4AB United Kingdom;X-APPLE-RADIUS=500;X-TITLE=Bugweed's Limited\, Unit 3\, Marrtree Business Park\, Stirling Road:geo:-1.0966665,53.990512
END:VEVENT
END:VCALENDAR