BEGIN:VCALENDAR
VERSION:2.0
PRODID:-//Bugweeds Limited - ECPv6.15.20//NONSGML v1.0//EN
CALSCALE:GREGORIAN
METHOD:PUBLISH
X-WR-CALNAME:Bugweeds Limited
X-ORIGINAL-URL:https://bugweedslimited.co.uk
X-WR-CALDESC:Events for Bugweeds Limited
REFRESH-INTERVAL;VALUE=DURATION:PT1H
X-Robots-Tag:noindex
X-PUBLISHED-TTL:PT1H
BEGIN:VTIMEZONE
TZID:Europe/London
BEGIN:DAYLIGHT
TZOFFSETFROM:+0000
TZOFFSETTO:+0100
TZNAME:BST
DTSTART:20240331T010000
END:DAYLIGHT
BEGIN:STANDARD
TZOFFSETFROM:+0100
TZOFFSETTO:+0000
TZNAME:GMT
DTSTART:20241027T010000
END:STANDARD
BEGIN:DAYLIGHT
TZOFFSETFROM:+0000
TZOFFSETTO:+0100
TZNAME:BST
DTSTART:20250330T010000
END:DAYLIGHT
BEGIN:STANDARD
TZOFFSETFROM:+0100
TZOFFSETTO:+0000
TZNAME:GMT
DTSTART:20251026T010000
END:STANDARD
BEGIN:DAYLIGHT
TZOFFSETFROM:+0000
TZOFFSETTO:+0100
TZNAME:BST
DTSTART:20260329T010000
END:DAYLIGHT
BEGIN:STANDARD
TZOFFSETFROM:+0100
TZOFFSETTO:+0000
TZNAME:GMT
DTSTART:20261025T010000
END:STANDARD
END:VTIMEZONE
BEGIN:VEVENT
DTSTART;TZID=Europe/London:20251128T190000
DTEND;TZID=Europe/London:20251128T210000
DTSTAMP:20260419T150501
CREATED:20251103T130714Z
LAST-MODIFIED:20251125T093859Z
UID:10001087-1764356400-1764363600@bugweedslimited.co.uk
SUMMARY:Festive Wreath Making
DESCRIPTION:Join us for a wonderful afternoon of Winter wreath making! \nWe have the fabulous Jayne from Free Spirit Flowers with us who will be guiding you through the wreath-making process\, sharing tips and tricks to create the perfect festive masterpiece. \nSuitable for beginners. All crafting materials\, including a variety of fresh greens\, ribbons\, ornaments\, and more\, will be provided. \nWe will have Nozeco and festive nibbles available for everyone to enjoy! \nWhy Attend? \n\nKickstart the holiday season with a joyful and creative experience.\nSpend quality time with friends\, family\, or meet new like-minded individuals.\nLeave with a beautiful\, handcrafted wreath to proudly display at home.\n\nWhat do I need to bring? \nIf you are able to bring some scissors and secateurs that would be great\, but we will have some available. \nAbout our tutor Jayne \nJayne is the owner of the fabulous Free Spirit Flowers from her studio in Londesborough. Jayne creates the most amazing florals for a wide range of events and has many years of experience to call on. We are delighted that she is able to come and share her passion for all things natural and floral with us at this festive time!
URL:https://bugweedslimited.co.uk/event/festive-wreath-making-2/
LOCATION:Bugweed’s Limited\, Bugweed's Limited\, Unit 3\, Marrtree Business Park\, Stirling Road\, York\, North Yorkshire\, YO30 4AB\, United Kingdom
CATEGORIES:Floral
ATTACH;FMTTYPE=image/png:https://bugweedslimited.co.uk/wp-content/uploads/2023/11/3.png
GEO:53.990512;-1.0966665
X-APPLE-STRUCTURED-LOCATION;VALUE=URI;X-ADDRESS=Bugweed’s Limited Bugweed's Limited Unit 3 Marrtree Business Park Stirling Road York North Yorkshire YO30 4AB United Kingdom;X-APPLE-RADIUS=500;X-TITLE=Bugweed's Limited\, Unit 3\, Marrtree Business Park\, Stirling Road:geo:-1.0966665,53.990512
END:VEVENT
END:VCALENDAR