BEGIN:VCALENDAR
VERSION:2.0
PRODID:-//Bugweeds Limited - ECPv6.15.20//NONSGML v1.0//EN
CALSCALE:GREGORIAN
METHOD:PUBLISH
X-ORIGINAL-URL:https://bugweedslimited.co.uk
X-WR-CALDESC:Events for Bugweeds Limited
REFRESH-INTERVAL;VALUE=DURATION:PT1H
X-Robots-Tag:noindex
X-PUBLISHED-TTL:PT1H
BEGIN:VTIMEZONE
TZID:Europe/London
BEGIN:DAYLIGHT
TZOFFSETFROM:+0000
TZOFFSETTO:+0100
TZNAME:BST
DTSTART:20230326T010000
END:DAYLIGHT
BEGIN:STANDARD
TZOFFSETFROM:+0100
TZOFFSETTO:+0000
TZNAME:GMT
DTSTART:20231029T010000
END:STANDARD
BEGIN:DAYLIGHT
TZOFFSETFROM:+0000
TZOFFSETTO:+0100
TZNAME:BST
DTSTART:20240331T010000
END:DAYLIGHT
BEGIN:STANDARD
TZOFFSETFROM:+0100
TZOFFSETTO:+0000
TZNAME:GMT
DTSTART:20241027T010000
END:STANDARD
BEGIN:DAYLIGHT
TZOFFSETFROM:+0000
TZOFFSETTO:+0100
TZNAME:BST
DTSTART:20250330T010000
END:DAYLIGHT
BEGIN:STANDARD
TZOFFSETFROM:+0100
TZOFFSETTO:+0000
TZNAME:GMT
DTSTART:20251026T010000
END:STANDARD
END:VTIMEZONE
BEGIN:VEVENT
DTSTART;TZID=Europe/London:20240103T103000
DTEND;TZID=Europe/London:20240103T133000
DTSTAMP:20260420T095806
CREATED:20231212T121453Z
LAST-MODIFIED:20240103T123423Z
UID:10000106-1704277800-1704288600@bugweedslimited.co.uk
SUMMARY:Introduction to Wool Painting - Create a wet felted picture
DESCRIPTION:Make your own unique wool painting! \nJoin our experienced tutor Katy who will guide through the wet felting process\, helping you produce a unique piece of artwork\, also known as ‘wool painting’. \nThis workshop is for children aged 8 and above. Parents/carers will need to stay with the children. \nWhat do I need to bring? \nNothing\, all materials and equipment will be provided. \nPrevious experience required \nNo previous experience needed. This workshop is suitable for beginners. \nOur tutor Katy \nKaty works mainly with Merino wool\, using felting and embroidery to create landscape stories. Changing skies\, seasons and rural scenes inspire her beautiful pictures. She also makes wearable accessories and clothing using the same felting techniques. Katy has exhibited her work for some years and can be found at local artisan fairs and exhibitions.  She is a member of the International Feltmakers Association. \nKaty was an Art & Textiles teacher in Secondary schools across North and West Yorkshire for 24 years. She has taught all ages and abilities from 11 – 18 years. This breadth of experience means she is well suited to teach workshops. \n 
URL:https://bugweedslimited.co.uk/event/introduction-to-wool-painting-create-a-wet-felted-picture/
LOCATION:Bugweed’s Limited\, Bugweed's Limited\, Unit 3\, Marrtree Business Park\, Stirling Road\, York\, North Yorkshire\, YO30 4AB\, United Kingdom
CATEGORIES:Felting
ATTACH;FMTTYPE=image/png:https://bugweedslimited.co.uk/wp-content/uploads/2023/12/Wool-Painting-2-2.png
GEO:53.990512;-1.0966665
X-APPLE-STRUCTURED-LOCATION;VALUE=URI;X-ADDRESS=Bugweed’s Limited Bugweed's Limited Unit 3 Marrtree Business Park Stirling Road York North Yorkshire YO30 4AB United Kingdom;X-APPLE-RADIUS=500;X-TITLE=Bugweed's Limited\, Unit 3\, Marrtree Business Park\, Stirling Road:geo:-1.0966665,53.990512
END:VEVENT
BEGIN:VEVENT
DTSTART;TZID=Europe/London:20240104T103000
DTEND;TZID=Europe/London:20240104T130000
DTSTAMP:20260420T095806
CREATED:20231212T134141Z
LAST-MODIFIED:20231219T201215Z
UID:10000107-1704364200-1704373200@bugweedslimited.co.uk
SUMMARY:Beginners Sewing - Adults or children welcome
DESCRIPTION:Would you love to learn how to use a sewing machine? Perhaps you have a child who would love to sew? Join Helen who will show you how! \nWhat will you learn? \nJoin Helen and she will show you the basics of using a sewing machine. You will learn how to thread the machine\, wind a bobbin\, understand basic stitches\, how to change the foot. You will be able to complete the sewing machine driving test! \nEveryone will have the opportunity to put their new skills into practice by completing a small project. \nThis workshop is recommended for adults or children ages 8+. Adults are welcome to come by themselves. Parents/carers will need to stay with the children. \nPrevious experience required? \nNone\, this is suitable for beginners \nWhat will I need to bring? \nIf you have your own sewing machine please bring that along\, otherwise you are welcome to use one of our studio machines. Do let us know when booking if you need to borrow a machine.
URL:https://bugweedslimited.co.uk/event/beginners-sewing-adults-or-children-welcome/
LOCATION:Bugweed’s Limited\, Bugweed's Limited\, Unit 3\, Marrtree Business Park\, Stirling Road\, York\, North Yorkshire\, YO30 4AB\, United Kingdom
CATEGORIES:Sewing
ATTACH;FMTTYPE=image/png:https://bugweedslimited.co.uk/wp-content/uploads/2023/12/Beginners-Sewing-Adults-and-Children-2.png
GEO:53.990512;-1.0966665
X-APPLE-STRUCTURED-LOCATION;VALUE=URI;X-ADDRESS=Bugweed’s Limited Bugweed's Limited Unit 3 Marrtree Business Park Stirling Road York North Yorkshire YO30 4AB United Kingdom;X-APPLE-RADIUS=500;X-TITLE=Bugweed's Limited\, Unit 3\, Marrtree Business Park\, Stirling Road:geo:-1.0966665,53.990512
END:VEVENT
BEGIN:VEVENT
DTSTART;TZID=Europe/London:20240104T190000
DTEND;TZID=Europe/London:20240104T210000
DTSTAMP:20260420T095806
CREATED:20230815T084200Z
LAST-MODIFIED:20231123T112241Z
UID:10000020-1704394800-1704402000@bugweedslimited.co.uk
SUMMARY:Be you and craft
DESCRIPTION:A monthly session for socially anxious teens and their parents/carers. \nJoin us for some creative time in a safe\, accepting place. \nThis is a pay what you feel social session.
URL:https://bugweedslimited.co.uk/event/be-you-and-craft-5/
LOCATION:Bugweed’s Limited\, Bugweed's Limited\, Unit 3\, Marrtree Business Park\, Stirling Road\, York\, North Yorkshire\, YO30 4AB\, United Kingdom
CATEGORIES:Social
ATTACH;FMTTYPE=image/png:https://bugweedslimited.co.uk/wp-content/uploads/2023/08/Be-you-and-craft-general-and-monthly-Facebook-post.png
GEO:53.990512;-1.0966665
X-APPLE-STRUCTURED-LOCATION;VALUE=URI;X-ADDRESS=Bugweed’s Limited Bugweed's Limited Unit 3 Marrtree Business Park Stirling Road York North Yorkshire YO30 4AB United Kingdom;X-APPLE-RADIUS=500;X-TITLE=Bugweed's Limited\, Unit 3\, Marrtree Business Park\, Stirling Road:geo:-1.0966665,53.990512
END:VEVENT
BEGIN:VEVENT
DTSTART;TZID=Europe/London:20240110T103000
DTEND;TZID=Europe/London:20240110T143000
DTSTAMP:20260420T095806
CREATED:20231108T135234Z
LAST-MODIFIED:20231123T113005Z
UID:10000095-1704882600-1704897000@bugweedslimited.co.uk
SUMMARY:Transformation time
DESCRIPTION:This workshop is all about transforming garments that are already made\, either by you or from a shop. The transformation could include changing the way it fits or combing garments to make something completely different. \n\n\nGill will be available to offer advice and guidance to help you transform your pieces. The time required for the transformation will depend upon the type of transformation you choose to do and its complexity\, you may need to complete your transformation at home or bring it to a future transformation time session. \n\nWhat do you need to bring? \n\nBring along any clothing that you would like to transform\, things that don’t fit\, have passed their best\, need an update or you are tired of and think it could be given a new lease of life.\nMatching thread and any haberdashery e.g. trims\, zips\, buttons\nYour sewing machine and instruction book\n\nIf you need to purchase any supplies for this workshop contact our sister company Bugweed’s Fabrics. All purchases need to be done before the workshop to allow the workshop to start on time. \nRequired sewing knowledge/experience \nYou need to have good basic knowledge of a sewing machine and be able to sew a straight stitch. You will need to be familiar with your machine and how to use it’s basic features such as winding and inserting the bobbin\, threading up your machine and needle\, changing the feet and needle and sewing a straight stitch. This session is not suitable for complete sewing machine beginners.
URL:https://bugweedslimited.co.uk/event/transformation-time/
LOCATION:Bugweed’s Limited\, Bugweed's Limited\, Unit 3\, Marrtree Business Park\, Stirling Road\, York\, North Yorkshire\, YO30 4AB\, United Kingdom
CATEGORIES:Sewing
ATTACH;FMTTYPE=image/png:https://bugweedslimited.co.uk/wp-content/uploads/2023/11/9.png
GEO:53.990512;-1.0966665
X-APPLE-STRUCTURED-LOCATION;VALUE=URI;X-ADDRESS=Bugweed’s Limited Bugweed's Limited Unit 3 Marrtree Business Park Stirling Road York North Yorkshire YO30 4AB United Kingdom;X-APPLE-RADIUS=500;X-TITLE=Bugweed's Limited\, Unit 3\, Marrtree Business Park\, Stirling Road:geo:-1.0966665,53.990512
END:VEVENT
BEGIN:VEVENT
DTSTART;TZID=Europe/London:20240113T103000
DTEND;TZID=Europe/London:20240113T130000
DTSTAMP:20260420T095806
CREATED:20231108T133958Z
LAST-MODIFIED:20231123T112851Z
UID:10000094-1705141800-1705150800@bugweedslimited.co.uk
SUMMARY:Sewing School: Pockets skills session
DESCRIPTION:This skills session is all about pockets. Gill will share her hints and tips on adding pockets to patterns that don’t include them\, including pocket placement\, inserting inseam pockets\, and adding patch pockets (blind and top stitched). By the end of the session you will: \n\nCreated your own pocket pattern pieces that can be used over and over again\nHave inserted an inseam pocket\nHave added patch pockets (with curved and mitred corners)\n\nWhat do you need to bring? \n\nYour sewing machine and the instruction book\n\nRequired sewing knowledge/experience \nYou need to have good basic knowledge of a sewing machine and be able to sew a straight stitch. You will need to be familiar with your machine and how to use it’s basic features such as winding and inserting the bobbin\, threading up your machine and needle\, changing the feet and needle and sewing a straight stitch. This session is not suitable for complete sewing machine beginners. \nYou also need a basic understanding of using a dressmaking pattern. This session is not suitable for absolute beginners that haven’t got experience of using a sewing machine or making clothes using dressmaking patterns.
URL:https://bugweedslimited.co.uk/event/sewing-school-pockets-skills-session/
LOCATION:Bugweed’s Limited\, Bugweed's Limited\, Unit 3\, Marrtree Business Park\, Stirling Road\, York\, North Yorkshire\, YO30 4AB\, United Kingdom
CATEGORIES:Sewing
ATTACH;FMTTYPE=image/png:https://bugweedslimited.co.uk/wp-content/uploads/2023/11/10.png
GEO:53.990512;-1.0966665
X-APPLE-STRUCTURED-LOCATION;VALUE=URI;X-ADDRESS=Bugweed’s Limited Bugweed's Limited Unit 3 Marrtree Business Park Stirling Road York North Yorkshire YO30 4AB United Kingdom;X-APPLE-RADIUS=500;X-TITLE=Bugweed's Limited\, Unit 3\, Marrtree Business Park\, Stirling Road:geo:-1.0966665,53.990512
END:VEVENT
BEGIN:VEVENT
DTSTART;TZID=Europe/London:20240113T133000
DTEND;TZID=Europe/London:20240113T153000
DTSTAMP:20260420T095806
CREATED:20231123T144654Z
LAST-MODIFIED:20240116T115907Z
UID:10000102-1705152600-1705159800@bugweedslimited.co.uk
SUMMARY:Sewing School: Making a bodywarmer with inseam and patch pockets
DESCRIPTION:Please note this is a two part workshop. Part 1 will take place on Saturday 13th January 1:30-4pm and part 2 Saturday 10th February 10:30-3:30pm. Payment covers both sessions. \nPart 1 Saturday 13th January 1:30-4pm \nThe pattern we will be using is The Fibre Mood Gabriela Bodywarmer. Please click here to view the pattern. \n\nIn this session we will accurately take our body measurements to determine what size or sizes we will need to use with the dressmaking pattern. We will then prepare our pattern and cut out our fabric\, transferring all pattern markings and finishing the raw edges with an overlocker. This means we will be ready to sew our bodywarmer in the next session. \n\n\nThe size range is approximately UK 6-28 please use your body measurements compared to the sizing on the pattern\, do not use your ready to wear size to estimate the size needed on the pattern as they can vary significantly. \nMinor fitting issues such as grading between a couple of sizes\, or lengthening/shortening can be dealt with\, but fitting issue requiring more complex adjustments will not be possible in the time constraints of this session. If you typically experience fitting issues with ready to wear garments\, you should expect that you will need to adjust dressmaking patterns and the adjustments very much depend on the specific fitting issue. \nPart 2 Saturday 10th February 10:30-3:30pm \n\nIn this session we will make our bodywarmer with patch pockets and adding additional in seam pockets. All internal seams and raw edges will be overlocked \n\nMinor fitting issues such as grading between a couple of sizes\, or lengthening/shortening can be dealt with\, but fitting issue requiring more complex adjustments will not be possible in the time constraints of this session. If you typically experience fitting issues with ready to wear garments\, you should expect that you will need to adjust dressmaking patterns and the adjustments very much depend on the specific fitting issue. \nRequired sewing knowledge/experience for both sessions \nYou need to have good basic knowledge of a sewing machine and be able to sew a straight stitch. You will need to be familiar with your machine and how to use it’s basic features such as winding and inserting the bobbin\, threading up your machine and needle\, changing the feet and needle and sewing a straight stitch. This session is not suitable for complete sewing machine beginners. \nYou also need a basic understanding of using a dressmaking pattern. This session is not suitable for absolute beginners that haven’t got experience of using a sewing machine or making clothes using dressmaking patterns. \nWhat will you need to bring for both sessions? \n\nYour sewing machine and instruction book\nThread\nIron on interfacing\, max 100cm\n\nSuggested fabrics:  \n\nPadded and quilted fabrics are perfect for Gabriela. Other options include corduroy\, double gauze\, and woollen fabrics. \nFabric requirements:  \n\nMain fabric: 110 cm wide fabric: 135 – 220 cm // 140 cm wide fabric: 100 – 170 cm. \n\n\nLining: 110 cm wide fabric: 55 – 100 cm // 140 cm wide fabric: 50 – 85 cm. \n\n\nMedium weight cotton fabric for pocket bags – 0.5 m \nIf you need to purchase any supplies for this workshop contact our sister company Bugweed’s Fabrics. All purchases need to be done before the workshop to allow the workshop to start on time.
URL:https://bugweedslimited.co.uk/event/sewing-school-making-a-bodywarmer-with-inseam-and-patch-pockets/
LOCATION:Bugweed’s Limited\, Bugweed's Limited\, Unit 3\, Marrtree Business Park\, Stirling Road\, York\, North Yorkshire\, YO30 4AB\, United Kingdom
CATEGORIES:Sewing
ATTACH;FMTTYPE=image/png:https://bugweedslimited.co.uk/wp-content/uploads/2023/11/Website-images-2.png
GEO:53.990512;-1.0966665
X-APPLE-STRUCTURED-LOCATION;VALUE=URI;X-ADDRESS=Bugweed’s Limited Bugweed's Limited Unit 3 Marrtree Business Park Stirling Road York North Yorkshire YO30 4AB United Kingdom;X-APPLE-RADIUS=500;X-TITLE=Bugweed's Limited\, Unit 3\, Marrtree Business Park\, Stirling Road:geo:-1.0966665,53.990512
END:VEVENT
BEGIN:VEVENT
DTSTART;TZID=Europe/London:20240127T133000
DTEND;TZID=Europe/London:20240127T153000
DTSTAMP:20260420T095806
CREATED:20240103T121206Z
LAST-MODIFIED:20240103T192903Z
UID:10000112-1706362200-1706369400@bugweedslimited.co.uk
SUMMARY:Block of the Month
DESCRIPTION:A wonderful way to start off the year. This month Helen will show you how to create the strip heart block.  \nYou can choose to create either an  8″ or  jumbo 18″ block. You can use the jumbo one to make a lovely cushion cover or the start of a super fast growing quilt! \nThis workshop is suitable for beginners to quilting. You will need to be familiar with your machine and how to use it’s basic features such as winding and inserting the bobbin\, threading up your machine and needle\, changing the feet and needle and sewing a straight stitch. This session is not suitable for complete sewing machine beginners however\, you do not need to have any experience of quilting. You must have a 1/4″ foot or the ability to move your needle to the 1/4″ seam allowance \nWhat do you need to bring? \n\nSewing machine and neutral thread\n 3 fat quarters of tonal colours( plains or small prints)\n1 fat quarter of plain contrasting  back ground fabric\nYou must have a 1/4″ foot or the ability to move your needle to the 1/4″ seam allowance\nFabric marking pen\nRuler\nRotary cutter\n\nRequired sewing knowledge/experience \nThis workshop is suitable for beginners to quilting. You will need to be familiar with your machine and how to use it’s basic features such as winding and inserting the bobbin\, threading up your machine and needle\, changing the feet and needle and sewing a straight stitch. This session is not suitable for complete sewing machine beginners however\, you do not need to have any experience of quilting. You must have a 1/4″ foot or the ability to move your needle to the 1/4″ seam allowance
URL:https://bugweedslimited.co.uk/event/block-of-the-month-4/
LOCATION:Bugweed’s Limited\, Bugweed's Limited\, Unit 3\, Marrtree Business Park\, Stirling Road\, York\, North Yorkshire\, YO30 4AB\, United Kingdom
CATEGORIES:Quilting
ATTACH;FMTTYPE=image/png:https://bugweedslimited.co.uk/wp-content/uploads/2024/01/January-2024-Block-of-the-Month-Facebook-Post.png
GEO:53.990512;-1.0966665
X-APPLE-STRUCTURED-LOCATION;VALUE=URI;X-ADDRESS=Bugweed’s Limited Bugweed's Limited Unit 3 Marrtree Business Park Stirling Road York North Yorkshire YO30 4AB United Kingdom;X-APPLE-RADIUS=500;X-TITLE=Bugweed's Limited\, Unit 3\, Marrtree Business Park\, Stirling Road:geo:-1.0966665,53.990512
END:VEVENT
END:VCALENDAR