BEGIN:VCALENDAR
VERSION:2.0
PRODID:-//Bugweeds Limited - ECPv6.15.20//NONSGML v1.0//EN
CALSCALE:GREGORIAN
METHOD:PUBLISH
X-ORIGINAL-URL:https://bugweedslimited.co.uk
X-WR-CALDESC:Events for Bugweeds Limited
REFRESH-INTERVAL;VALUE=DURATION:PT1H
X-Robots-Tag:noindex
X-PUBLISHED-TTL:PT1H
BEGIN:VTIMEZONE
TZID:Europe/London
BEGIN:DAYLIGHT
TZOFFSETFROM:+0000
TZOFFSETTO:+0100
TZNAME:BST
DTSTART:20220327T010000
END:DAYLIGHT
BEGIN:STANDARD
TZOFFSETFROM:+0100
TZOFFSETTO:+0000
TZNAME:GMT
DTSTART:20221030T010000
END:STANDARD
BEGIN:DAYLIGHT
TZOFFSETFROM:+0000
TZOFFSETTO:+0100
TZNAME:BST
DTSTART:20230326T010000
END:DAYLIGHT
BEGIN:STANDARD
TZOFFSETFROM:+0100
TZOFFSETTO:+0000
TZNAME:GMT
DTSTART:20231029T010000
END:STANDARD
BEGIN:DAYLIGHT
TZOFFSETFROM:+0000
TZOFFSETTO:+0100
TZNAME:BST
DTSTART:20240331T010000
END:DAYLIGHT
BEGIN:STANDARD
TZOFFSETFROM:+0100
TZOFFSETTO:+0000
TZNAME:GMT
DTSTART:20241027T010000
END:STANDARD
END:VTIMEZONE
BEGIN:VEVENT
DTSTART;TZID=Europe/London:20230912T190000
DTEND;TZID=Europe/London:20230912T203000
DTSTAMP:20260424T002631
CREATED:20230818T093404Z
LAST-MODIFIED:20230922T142632Z
UID:10000047-1694545200-1694550600@bugweedslimited.co.uk
SUMMARY:How learning to sew helped me transform my life. A talk with Gill Thomas
DESCRIPTION:Gill Thomas will share her sewing journey\, why and how she learnt to sew\, taking part in the Great British Sewing Bee and how learning to sew helped her face her biggest fears and transform her life. \nTickets are £10 per person and all the profits will go to the charity REACH who support children with upper limb differences.
URL:https://bugweedslimited.co.uk/event/how-learning-to-sew-helped-me-transform-my-life-a-talk-with-gill-thomas/
LOCATION:Bugweed’s Limited\, Bugweed's Limited\, Unit 3\, Marrtree Business Park\, Stirling Road\, York\, North Yorkshire\, YO30 4AB\, United Kingdom
ATTACH;FMTTYPE=image/png:https://bugweedslimited.co.uk/wp-content/uploads/2023/08/Gill-Thomas-Talk-advertising-Facebook-Post-Square-Facebook-Post-Landscape.png
GEO:53.990512;-1.0966665
X-APPLE-STRUCTURED-LOCATION;VALUE=URI;X-ADDRESS=Bugweed’s Limited Bugweed's Limited Unit 3 Marrtree Business Park Stirling Road York North Yorkshire YO30 4AB United Kingdom;X-APPLE-RADIUS=500;X-TITLE=Bugweed's Limited\, Unit 3\, Marrtree Business Park\, Stirling Road:geo:-1.0966665,53.990512
END:VEVENT
BEGIN:VEVENT
DTSTART;TZID=Europe/London:20230913T103000
DTEND;TZID=Europe/London:20230913T143000
DTSTAMP:20260424T002631
CREATED:20230901T122420Z
LAST-MODIFIED:20230913T114809Z
UID:10000054-1694601000-1694615400@bugweedslimited.co.uk
SUMMARY:Complete Beginners Introduction to Sewing
DESCRIPTION:This session is aimed at complete beginners. You will learn to sew from scratch\, learning how to use a sewing machine and making a tote bag. \n\nIn this session you will be introduced to a sewing machine and how it works and learn basic sewing skills like: winding a bobbin\, different types of simple stitches\, seam allowances\, sewing around corners\, and finishing seams and hems. By the end of the session\, you will have made a tote bag. \nRequired sewing knowledge and experience \nNo knowledge of a sewing machine or dressmaking is needed. This course is aimed at people who would like to sew but haven’t touched a sewing machine\, or people that have sewn in the past and would like a refresher. \nFabric and tool requirements \n\nHalf a metre of medium weight cotton fabric and thread. \nFeel free to bring your own sewing machine. If you would like to borrow one of our studio sewing machines please let us know during the booking process so we can have one ready for you. \nNotes \nAll internal seams and raw edges will be finished with pinking shears. \nIf purchasing fabric this needs to be done before the workshop to allow the workshop to start on time. \n  \n 
URL:https://bugweedslimited.co.uk/event/complete-beginners-introduction-to-sewing/
LOCATION:Bugweed’s Limited\, Bugweed's Limited\, Unit 3\, Marrtree Business Park\, Stirling Road\, York\, North Yorkshire\, YO30 4AB\, United Kingdom
CATEGORIES:Sewing
ATTACH;FMTTYPE=image/png:https://bugweedslimited.co.uk/wp-content/uploads/2023/09/IMG_1850.png
GEO:53.990512;-1.0966665
X-APPLE-STRUCTURED-LOCATION;VALUE=URI;X-ADDRESS=Bugweed’s Limited Bugweed's Limited Unit 3 Marrtree Business Park Stirling Road York North Yorkshire YO30 4AB United Kingdom;X-APPLE-RADIUS=500;X-TITLE=Bugweed's Limited\, Unit 3\, Marrtree Business Park\, Stirling Road:geo:-1.0966665,53.990512
END:VEVENT
END:VCALENDAR