BEGIN:VCALENDAR
VERSION:2.0
PRODID:-//Bugweeds Limited - ECPv6.15.20//NONSGML v1.0//EN
CALSCALE:GREGORIAN
METHOD:PUBLISH
X-ORIGINAL-URL:https://bugweedslimited.co.uk
X-WR-CALDESC:Events for Bugweeds Limited
REFRESH-INTERVAL;VALUE=DURATION:PT1H
X-Robots-Tag:noindex
X-PUBLISHED-TTL:PT1H
BEGIN:VTIMEZONE
TZID:Europe/London
BEGIN:DAYLIGHT
TZOFFSETFROM:+0000
TZOFFSETTO:+0100
TZNAME:BST
DTSTART:20220327T010000
END:DAYLIGHT
BEGIN:STANDARD
TZOFFSETFROM:+0100
TZOFFSETTO:+0000
TZNAME:GMT
DTSTART:20221030T010000
END:STANDARD
BEGIN:DAYLIGHT
TZOFFSETFROM:+0000
TZOFFSETTO:+0100
TZNAME:BST
DTSTART:20230326T010000
END:DAYLIGHT
BEGIN:STANDARD
TZOFFSETFROM:+0100
TZOFFSETTO:+0000
TZNAME:GMT
DTSTART:20231029T010000
END:STANDARD
BEGIN:DAYLIGHT
TZOFFSETFROM:+0000
TZOFFSETTO:+0100
TZNAME:BST
DTSTART:20240331T010000
END:DAYLIGHT
BEGIN:STANDARD
TZOFFSETFROM:+0100
TZOFFSETTO:+0000
TZNAME:GMT
DTSTART:20241027T010000
END:STANDARD
END:VTIMEZONE
BEGIN:VEVENT
DTSTART;TZID=Europe/London:20230920T100000
DTEND;TZID=Europe/London:20230920T123000
DTSTAMP:20260424T002621
CREATED:20230815T095250Z
LAST-MODIFIED:20230913T115131Z
UID:10000030-1695204000-1695213000@bugweedslimited.co.uk
SUMMARY:Me & My Little One
DESCRIPTION:Creative time for parents and carers\, calm time for babies. \nA social time for parents and carers with babies in arms to spend time being creative. You are welcome to come along and use our studio space. We will have toys and playmats on the floor for the babies. Hot and cold drinks for the adults. We also have a toilet and baby changing facilities. It’s all very relaxed.
URL:https://bugweedslimited.co.uk/event/me-my-little-one/
LOCATION:Bugweed’s Limited\, Bugweed's Limited\, Unit 3\, Marrtree Business Park\, Stirling Road\, York\, North Yorkshire\, YO30 4AB\, United Kingdom
CATEGORIES:Social
ATTACH;FMTTYPE=image/jpeg:https://bugweedslimited.co.uk/wp-content/uploads/2023/08/Helen-and-Albert-scaled.jpg
GEO:53.990512;-1.0966665
X-APPLE-STRUCTURED-LOCATION;VALUE=URI;X-ADDRESS=Bugweed’s Limited Bugweed's Limited Unit 3 Marrtree Business Park Stirling Road York North Yorkshire YO30 4AB United Kingdom;X-APPLE-RADIUS=500;X-TITLE=Bugweed's Limited\, Unit 3\, Marrtree Business Park\, Stirling Road:geo:-1.0966665,53.990512
END:VEVENT
BEGIN:VEVENT
DTSTART;TZID=Europe/London:20230923T103000
DTEND;TZID=Europe/London:20230923T123000
DTSTAMP:20260424T002621
CREATED:20230901T104427Z
LAST-MODIFIED:20230913T115422Z
UID:10000052-1695465000-1695472200@bugweedslimited.co.uk
SUMMARY:Help I've bought an overlocker
DESCRIPTION:The perfect course for beginners who want to learn the basics of how to use their overlocker. \nWhat will you learn on this course? \n\nThreading up\, in the correct order\nUnderstanding the parts\nUnderstanding and adjusting tension\nThe cutter\nChanging a needle\nLooking after your overlocker\, including cleaning\nRaising the knife\nAdjusting the stitch length\nAdjusting the cutting width\nHow to make sure it does not come unthreaded\nHow to easily rethread in a different colour\n\nWhat do you need to bring? \n\nYour overlocker and thread. Please let us know which machine you have when booking\n\nOur tutor \nOur tutor Debbie is a textiles teacher with over twenty years experience of teaching both art based textiles and technology. This has led to a wide range of skills in all areas of textiles\, from stitching on machines and by hand as well as manipulation of fabrics and materials.  \n 
URL:https://bugweedslimited.co.uk/event/help-ive-bought-an-overlocker/
LOCATION:Bugweed’s Limited\, Bugweed's Limited\, Unit 3\, Marrtree Business Park\, Stirling Road\, York\, North Yorkshire\, YO30 4AB\, United Kingdom
CATEGORIES:Sewing
ATTACH;FMTTYPE=image/png:https://bugweedslimited.co.uk/wp-content/uploads/2023/09/1.png
GEO:53.990512;-1.0966665
X-APPLE-STRUCTURED-LOCATION;VALUE=URI;X-ADDRESS=Bugweed’s Limited Bugweed's Limited Unit 3 Marrtree Business Park Stirling Road York North Yorkshire YO30 4AB United Kingdom;X-APPLE-RADIUS=500;X-TITLE=Bugweed's Limited\, Unit 3\, Marrtree Business Park\, Stirling Road:geo:-1.0966665,53.990512
END:VEVENT
BEGIN:VEVENT
DTSTART;TZID=Europe/London:20230923T133000
DTEND;TZID=Europe/London:20230923T153000
DTSTAMP:20260424T002621
CREATED:20230901T115606Z
LAST-MODIFIED:20230913T115431Z
UID:10000053-1695475800-1695483000@bugweedslimited.co.uk
SUMMARY:How to get the most out of your overlocker
DESCRIPTION:If you know the basics but want to know more about how to get the most out of your overlocker then this is the course for you. \nWhat will you learn on this course? \n\nMake sure your machine is set up properly\nUsing it for gathering\nAdjusting the differential feed for different fabrics\nRoll hemming\nUnpicking seams\nBuying and using extra feet for blind stitch\, elasticator or cording\n\nWhat do you need to bring? \n\nYour overlocker and thread. Please let us know which machine you have when booking\n\nOur tutor \nOur tutor Debbie is a textiles teacher with over twenty years experience of teaching both art based textiles and technology. This has led to a wide range of skills in all areas of textiles\, from stitching on machines and by hand as well as manipulation of fabrics and materials.  \n 
URL:https://bugweedslimited.co.uk/event/how-to-get-the-most-out-of-your-overlocker/
LOCATION:Bugweed’s Limited\, Bugweed's Limited\, Unit 3\, Marrtree Business Park\, Stirling Road\, York\, North Yorkshire\, YO30 4AB\, United Kingdom
CATEGORIES:Sewing
ATTACH;FMTTYPE=image/png:https://bugweedslimited.co.uk/wp-content/uploads/2023/09/2.png
GEO:53.990512;-1.0966665
X-APPLE-STRUCTURED-LOCATION;VALUE=URI;X-ADDRESS=Bugweed’s Limited Bugweed's Limited Unit 3 Marrtree Business Park Stirling Road York North Yorkshire YO30 4AB United Kingdom;X-APPLE-RADIUS=500;X-TITLE=Bugweed's Limited\, Unit 3\, Marrtree Business Park\, Stirling Road:geo:-1.0966665,53.990512
END:VEVENT
END:VCALENDAR