BEGIN:VCALENDAR
VERSION:2.0
PRODID:-//Bugweeds Limited - ECPv6.15.20//NONSGML v1.0//EN
CALSCALE:GREGORIAN
METHOD:PUBLISH
X-WR-CALNAME:Bugweeds Limited
X-ORIGINAL-URL:https://bugweedslimited.co.uk
X-WR-CALDESC:Events for Bugweeds Limited
REFRESH-INTERVAL;VALUE=DURATION:PT1H
X-Robots-Tag:noindex
X-PUBLISHED-TTL:PT1H
BEGIN:VTIMEZONE
TZID:Europe/London
BEGIN:DAYLIGHT
TZOFFSETFROM:+0000
TZOFFSETTO:+0100
TZNAME:BST
DTSTART:20220327T010000
END:DAYLIGHT
BEGIN:STANDARD
TZOFFSETFROM:+0100
TZOFFSETTO:+0000
TZNAME:GMT
DTSTART:20221030T010000
END:STANDARD
BEGIN:DAYLIGHT
TZOFFSETFROM:+0000
TZOFFSETTO:+0100
TZNAME:BST
DTSTART:20230326T010000
END:DAYLIGHT
BEGIN:STANDARD
TZOFFSETFROM:+0100
TZOFFSETTO:+0000
TZNAME:GMT
DTSTART:20231029T010000
END:STANDARD
BEGIN:DAYLIGHT
TZOFFSETFROM:+0000
TZOFFSETTO:+0100
TZNAME:BST
DTSTART:20240331T010000
END:DAYLIGHT
BEGIN:STANDARD
TZOFFSETFROM:+0100
TZOFFSETTO:+0000
TZNAME:GMT
DTSTART:20241027T010000
END:STANDARD
END:VTIMEZONE
BEGIN:VEVENT
DTSTART;TZID=Europe/London:20231101T100000
DTEND;TZID=Europe/London:20231101T123000
DTSTAMP:20260423T125810
CREATED:20230925T134646Z
LAST-MODIFIED:20230925T134646Z
UID:10000069-1698832800-1698841800@bugweedslimited.co.uk
SUMMARY:Me & My Little One
DESCRIPTION:Creative time for parents and carers\, calm time for babies. \nA social time for parents and carers with babies in arms to spend time being creative. You are welcome to come along and use our studio space. We will have toys and playmats on the floor for the babies. Hot and cold drinks for the adults. We also have a toilet and baby changing facilities. It’s all very relaxed.
URL:https://bugweedslimited.co.uk/event/me-my-little-one-4/
LOCATION:Bugweed’s Limited\, Bugweed's Limited\, Unit 3\, Marrtree Business Park\, Stirling Road\, York\, North Yorkshire\, YO30 4AB\, United Kingdom
CATEGORIES:Social
ATTACH;FMTTYPE=image/jpeg:https://bugweedslimited.co.uk/wp-content/uploads/2023/08/Helen-and-Albert-scaled.jpg
GEO:53.990512;-1.0966665
X-APPLE-STRUCTURED-LOCATION;VALUE=URI;X-ADDRESS=Bugweed’s Limited Bugweed's Limited Unit 3 Marrtree Business Park Stirling Road York North Yorkshire YO30 4AB United Kingdom;X-APPLE-RADIUS=500;X-TITLE=Bugweed's Limited\, Unit 3\, Marrtree Business Park\, Stirling Road:geo:-1.0966665,53.990512
END:VEVENT
BEGIN:VEVENT
DTSTART;TZID=Europe/London:20231102T190000
DTEND;TZID=Europe/London:20231102T210000
DTSTAMP:20260423T125810
CREATED:20230815T084108Z
LAST-MODIFIED:20230913T115739Z
UID:10000018-1698951600-1698958800@bugweedslimited.co.uk
SUMMARY:Be you and craft
DESCRIPTION:A monthly session for socially anxious teens and their parents/carers. \nJoin us for some creative time in a safe\, accepting place. \nThis is a pay what you feel social session.
URL:https://bugweedslimited.co.uk/event/be-you-and-craft-3/
LOCATION:Bugweed’s Limited\, Bugweed's Limited\, Unit 3\, Marrtree Business Park\, Stirling Road\, York\, North Yorkshire\, YO30 4AB\, United Kingdom
CATEGORIES:Social
ATTACH;FMTTYPE=image/png:https://bugweedslimited.co.uk/wp-content/uploads/2023/08/Be-you-and-craft-website-image.png
GEO:53.990512;-1.0966665
X-APPLE-STRUCTURED-LOCATION;VALUE=URI;X-ADDRESS=Bugweed’s Limited Bugweed's Limited Unit 3 Marrtree Business Park Stirling Road York North Yorkshire YO30 4AB United Kingdom;X-APPLE-RADIUS=500;X-TITLE=Bugweed's Limited\, Unit 3\, Marrtree Business Park\, Stirling Road:geo:-1.0966665,53.990512
END:VEVENT
BEGIN:VEVENT
DTSTART;TZID=Europe/London:20231103T103000
DTEND;TZID=Europe/London:20231103T123000
DTSTAMP:20260423T125810
CREATED:20230928T134552Z
LAST-MODIFIED:20230928T134552Z
UID:10000077-1699007400-1699014600@bugweedslimited.co.uk
SUMMARY:Children's Beginners Sewing
DESCRIPTION:Do you have a child who wants to learn how to use a sewing machine? \nWhat will you learn? \nJoin Helen and she will show you the basics of using a sewing machine. You will learn how to thread the machine\, wind a bobbin\, understand basic stitches\, how to change the foot. You will be able to complete the sewing machine driving test! \nEveryone will have the opportunity to put their new skills into practice by completing a small project. \nThis workshop is recommended for ages 8+. Tickets are per table so families are welcome to share a table. Parents/carers will need to stay with the children. \nPrevious experience required? \nNone\, this is suitable for beginners \nWhat will I need to bring? \nNothing\, everything will be provided
URL:https://bugweedslimited.co.uk/event/childrens-beginners-sewing-2/
LOCATION:Bugweed’s Limited\, Bugweed's Limited\, Unit 3\, Marrtree Business Park\, Stirling Road\, York\, North Yorkshire\, YO30 4AB\, United Kingdom
CATEGORIES:Sewing
ATTACH;FMTTYPE=image/png:https://bugweedslimited.co.uk/wp-content/uploads/2023/09/Website-images-10.png
GEO:53.990512;-1.0966665
X-APPLE-STRUCTURED-LOCATION;VALUE=URI;X-ADDRESS=Bugweed’s Limited Bugweed's Limited Unit 3 Marrtree Business Park Stirling Road York North Yorkshire YO30 4AB United Kingdom;X-APPLE-RADIUS=500;X-TITLE=Bugweed's Limited\, Unit 3\, Marrtree Business Park\, Stirling Road:geo:-1.0966665,53.990512
END:VEVENT
BEGIN:VEVENT
DTSTART;TZID=Europe/London:20231103T130000
DTEND;TZID=Europe/London:20231103T150000
DTSTAMP:20260423T125810
CREATED:20231003T115101Z
LAST-MODIFIED:20231031T145744Z
UID:10000078-1699016400-1699023600@bugweedslimited.co.uk
SUMMARY:Children's Pom Pom Wreath
DESCRIPTION:Join Helen to make your very own pom pom wreath. \nWhat will you learn? \nHelen will show you how to make pom poms\, decorate your wreath frame and fix your pom poms to the frame. You may not finish the whole wreath in the session but you will have been taught the skills to finish it at home. \nWe recommend this workshop is suitable for children ages 6+. Tickets are per table so families are welcome to share a table. Parents/carers will need to stay with the children. \nPrevious experience required? \nNo experience necessary\, this session is suitable for beginners. \nWhat will I need to bring? \nNothing\, everything will be provided
URL:https://bugweedslimited.co.uk/event/childrens-pom-pom-wreath/
LOCATION:North Yorkshire
ATTACH;FMTTYPE=image/png:https://bugweedslimited.co.uk/wp-content/uploads/2023/09/Website-images-11.png
END:VEVENT
END:VCALENDAR