BEGIN:VCALENDAR
VERSION:2.0
PRODID:-//Bugweeds Limited - ECPv6.15.20//NONSGML v1.0//EN
CALSCALE:GREGORIAN
METHOD:PUBLISH
X-WR-CALNAME:Bugweeds Limited
X-ORIGINAL-URL:https://bugweedslimited.co.uk
X-WR-CALDESC:Events for Bugweeds Limited
REFRESH-INTERVAL;VALUE=DURATION:PT1H
X-Robots-Tag:noindex
X-PUBLISHED-TTL:PT1H
BEGIN:VTIMEZONE
TZID:Europe/London
BEGIN:DAYLIGHT
TZOFFSETFROM:+0000
TZOFFSETTO:+0100
TZNAME:BST
DTSTART:20220327T010000
END:DAYLIGHT
BEGIN:STANDARD
TZOFFSETFROM:+0100
TZOFFSETTO:+0000
TZNAME:GMT
DTSTART:20221030T010000
END:STANDARD
BEGIN:DAYLIGHT
TZOFFSETFROM:+0000
TZOFFSETTO:+0100
TZNAME:BST
DTSTART:20230326T010000
END:DAYLIGHT
BEGIN:STANDARD
TZOFFSETFROM:+0100
TZOFFSETTO:+0000
TZNAME:GMT
DTSTART:20231029T010000
END:STANDARD
BEGIN:DAYLIGHT
TZOFFSETFROM:+0000
TZOFFSETTO:+0100
TZNAME:BST
DTSTART:20240331T010000
END:DAYLIGHT
BEGIN:STANDARD
TZOFFSETFROM:+0100
TZOFFSETTO:+0000
TZNAME:GMT
DTSTART:20241027T010000
END:STANDARD
END:VTIMEZONE
BEGIN:VEVENT
DTSTART;TZID=Europe/London:20231121T183000
DTEND;TZID=Europe/London:20231121T210000
DTSTAMP:20260423T125809
CREATED:20230928T121131Z
LAST-MODIFIED:20230928T121131Z
UID:10000075-1700591400-1700600400@bugweedslimited.co.uk
SUMMARY:Colour into weave
DESCRIPTION:Join Amanda to learn how to make a sample of woven fabric on a weave card. \nWhat will you learn? \nExploration of colour and weave structure to create a colourful patterned piece. You may not finish your piece during the workshop but you will learn all the techniques to finish it in your own time. \nYour weave card can be reused to make further weaving samples at home. \nThe techniques learnt can also be transferred to visible mending projects. \nWhat do you need to bring? \nNothing\, all materials and equipment will be provided. \nPrevious experience required? \nThis workshop is suitable for beginners \nOur tutor Amanda \nI studied textile design at university and worked as a textiles teacher in secondary education for over 30 years. During this time\, I completed part time courses in embroidery and fashion design. I’ve co-authored two textiles books for students and provided training sessions for textile teachers. A wide range of different textile techniques inspire my work. Currently I’m enjoying producing experimental woven fabrics on an ancient 4 shaft floor loom. \n  \n 
URL:https://bugweedslimited.co.uk/event/colour-into-weave/
LOCATION:Bugweed’s Limited\, Bugweed's Limited\, Unit 3\, Marrtree Business Park\, Stirling Road\, York\, North Yorkshire\, YO30 4AB\, United Kingdom
CATEGORIES:Weaving
ATTACH;FMTTYPE=image/png:https://bugweedslimited.co.uk/wp-content/uploads/2023/09/Website-images-8.png
GEO:53.990512;-1.0966665
X-APPLE-STRUCTURED-LOCATION;VALUE=URI;X-ADDRESS=Bugweed’s Limited Bugweed's Limited Unit 3 Marrtree Business Park Stirling Road York North Yorkshire YO30 4AB United Kingdom;X-APPLE-RADIUS=500;X-TITLE=Bugweed's Limited\, Unit 3\, Marrtree Business Park\, Stirling Road:geo:-1.0966665,53.990512
END:VEVENT
BEGIN:VEVENT
DTSTART;TZID=Europe/London:20231122T190000
DTEND;TZID=Europe/London:20231122T210000
DTSTAMP:20260423T125809
CREATED:20231020T135201Z
LAST-MODIFIED:20231020T135201Z
UID:10000092-1700679600-1700686800@bugweedslimited.co.uk
SUMMARY:Learn to knit for absolute beginners
DESCRIPTION:Join Catherine to learn how to knit! casting on\, knit and purl and cast off. DK 4mm or Aran 5mm. 10 people \nIn this session Catherine will teach you how to cast on\, knit\, purl and cast off. You will have the opportunity to practise those and gain confidence with them. \nWhat do I need to bring? \nNothing! Everything will be provided for you. You will have a set of knitting needles and a ball of yarn to use in the session and take away with you. \nPrevious experience required? \nNone\, this session is designed for absolute beginners.
URL:https://bugweedslimited.co.uk/event/learn-to-knit-for-absolute-beginners/
LOCATION:Bugweed’s Limited\, Bugweed's Limited\, Unit 3\, Marrtree Business Park\, Stirling Road\, York\, North Yorkshire\, YO30 4AB\, United Kingdom
CATEGORIES:Knitting
ATTACH;FMTTYPE=image/png:https://bugweedslimited.co.uk/wp-content/uploads/2023/10/Website-images-21.png
GEO:53.990512;-1.0966665
X-APPLE-STRUCTURED-LOCATION;VALUE=URI;X-ADDRESS=Bugweed’s Limited Bugweed's Limited Unit 3 Marrtree Business Park Stirling Road York North Yorkshire YO30 4AB United Kingdom;X-APPLE-RADIUS=500;X-TITLE=Bugweed's Limited\, Unit 3\, Marrtree Business Park\, Stirling Road:geo:-1.0966665,53.990512
END:VEVENT
BEGIN:VEVENT
DTSTART;TZID=Europe/London:20231124T103000
DTEND;TZID=Europe/London:20231124T123000
DTSTAMP:20260423T125809
CREATED:20231005T090803Z
LAST-MODIFIED:20231115T110732Z
UID:10000084-1700821800-1700829000@bugweedslimited.co.uk
SUMMARY:Learn to crochet for absolute beginners
DESCRIPTION:Join Debbie to learn how to crochet! \nIn this session Debbie will teach you how to make chain\, double and treble crochet stitches. You will have the opportunity to practise those and gain confidence\, making a square with them. \nLeft or right handed. Everyone is welcome. \nWhat do I need to bring? \nNothing! Everything will be provided for you. You will have a crochet hook and ball of yarn to use in the session and take away with you. \nPrevious experience required? \nNone\, this session is designed for absolute beginners.
URL:https://bugweedslimited.co.uk/event/learn-to-crochet-for-absolute-beginners/
LOCATION:Bugweed’s Limited\, Bugweed's Limited\, Unit 3\, Marrtree Business Park\, Stirling Road\, York\, North Yorkshire\, YO30 4AB\, United Kingdom
CATEGORIES:Crochet
ATTACH;FMTTYPE=image/png:https://bugweedslimited.co.uk/wp-content/uploads/2023/10/Website-images-15.png
GEO:53.990512;-1.0966665
X-APPLE-STRUCTURED-LOCATION;VALUE=URI;X-ADDRESS=Bugweed’s Limited Bugweed's Limited Unit 3 Marrtree Business Park Stirling Road York North Yorkshire YO30 4AB United Kingdom;X-APPLE-RADIUS=500;X-TITLE=Bugweed's Limited\, Unit 3\, Marrtree Business Park\, Stirling Road:geo:-1.0966665,53.990512
END:VEVENT
BEGIN:VEVENT
DTSTART;TZID=Europe/London:20231124T130000
DTEND;TZID=Europe/London:20231124T150000
DTSTAMP:20260423T125809
CREATED:20231005T104410Z
LAST-MODIFIED:20231005T104410Z
UID:10000086-1700830800-1700838000@bugweedslimited.co.uk
SUMMARY:Learn to crochet a granny square
DESCRIPTION:Join Debbie to learn how to crochet a granny square and try out a variety of designs. \nLeft or right handed. Everyone is welcome. \nWhat do I need to bring? \nBring your own crochet hook and yarn\, any size is fine. Feel free to bring multiple colours if you would like to. \nPrevious experience required? \nThis session is for confident beginners. You will need to be able to do double and treble crochet stitches.
URL:https://bugweedslimited.co.uk/event/learn-to-crochet-a-granny-square/
LOCATION:Bugweed’s Limited\, Bugweed's Limited\, Unit 3\, Marrtree Business Park\, Stirling Road\, York\, North Yorkshire\, YO30 4AB\, United Kingdom
CATEGORIES:Crochet
ATTACH;FMTTYPE=image/png:https://bugweedslimited.co.uk/wp-content/uploads/2023/10/Website-images-16.png
GEO:53.990512;-1.0966665
X-APPLE-STRUCTURED-LOCATION;VALUE=URI;X-ADDRESS=Bugweed’s Limited Bugweed's Limited Unit 3 Marrtree Business Park Stirling Road York North Yorkshire YO30 4AB United Kingdom;X-APPLE-RADIUS=500;X-TITLE=Bugweed's Limited\, Unit 3\, Marrtree Business Park\, Stirling Road:geo:-1.0966665,53.990512
END:VEVENT
BEGIN:VEVENT
DTSTART;TZID=Europe/London:20231125T103000
DTEND;TZID=Europe/London:20231125T123000
DTSTAMP:20260423T125809
CREATED:20231115T110504Z
LAST-MODIFIED:20231115T110504Z
UID:10000098-1700908200-1700915400@bugweedslimited.co.uk
SUMMARY:Learn to crochet for absolute beginners
DESCRIPTION:Join Debbie to learn how to crochet! \nIn this session Debbie will teach you how to make chain\, double and treble crochet stitches. You will have the opportunity to practise those and gain confidence\, making a square with them. \nLeft or right handed. Everyone is welcome. \nWhat do I need to bring? \nNothing! Everything will be provided for you. You will have a crochet hook and ball of yarn to use in the session and take away with you. \nPrevious experience required? \nNone\, this session is designed for absolute beginners.
URL:https://bugweedslimited.co.uk/event/learn-to-crochet-for-absolute-beginners-2/
LOCATION:Bugweed’s Limited\, Bugweed's Limited\, Unit 3\, Marrtree Business Park\, Stirling Road\, York\, North Yorkshire\, YO30 4AB\, United Kingdom
CATEGORIES:Crochet
ATTACH;FMTTYPE=image/png:https://bugweedslimited.co.uk/wp-content/uploads/2023/10/Website-images-15.png
GEO:53.990512;-1.0966665
X-APPLE-STRUCTURED-LOCATION;VALUE=URI;X-ADDRESS=Bugweed’s Limited Bugweed's Limited Unit 3 Marrtree Business Park Stirling Road York North Yorkshire YO30 4AB United Kingdom;X-APPLE-RADIUS=500;X-TITLE=Bugweed's Limited\, Unit 3\, Marrtree Business Park\, Stirling Road:geo:-1.0966665,53.990512
END:VEVENT
BEGIN:VEVENT
DTSTART;TZID=Europe/London:20231125T133000
DTEND;TZID=Europe/London:20231125T153000
DTSTAMP:20260423T125809
CREATED:20231031T134942Z
LAST-MODIFIED:20231031T135322Z
UID:10000093-1700919000-1700926200@bugweedslimited.co.uk
SUMMARY:Block of the Month
DESCRIPTION:This month Helen will show you how to create the Missouri star block. \nThe finished block will be 20″. Perfect to make a quick table runner\, centrepiece table mat or the start of a super fast quilt. \nWhat do you need to bring? \n\nSewing machine and thread\nA fat quarter for each of the colours for the star\, see picture\n35cm of background colour\nScissors\n\n 
URL:https://bugweedslimited.co.uk/event/block-of-the-month-3/
LOCATION:Bugweed’s Limited\, Bugweed's Limited\, Unit 3\, Marrtree Business Park\, Stirling Road\, York\, North Yorkshire\, YO30 4AB\, United Kingdom
CATEGORIES:Quilting
ATTACH;FMTTYPE=image/png:https://bugweedslimited.co.uk/wp-content/uploads/2023/10/November-Block-of-the-Month-Facebook-Post.png
GEO:53.990512;-1.0966665
X-APPLE-STRUCTURED-LOCATION;VALUE=URI;X-ADDRESS=Bugweed’s Limited Bugweed's Limited Unit 3 Marrtree Business Park Stirling Road York North Yorkshire YO30 4AB United Kingdom;X-APPLE-RADIUS=500;X-TITLE=Bugweed's Limited\, Unit 3\, Marrtree Business Park\, Stirling Road:geo:-1.0966665,53.990512
END:VEVENT
END:VCALENDAR