BEGIN:VCALENDAR
VERSION:2.0
PRODID:-//Bugweeds Limited - ECPv6.15.20//NONSGML v1.0//EN
CALSCALE:GREGORIAN
METHOD:PUBLISH
X-WR-CALNAME:Bugweeds Limited
X-ORIGINAL-URL:https://bugweedslimited.co.uk
X-WR-CALDESC:Events for Bugweeds Limited
REFRESH-INTERVAL;VALUE=DURATION:PT1H
X-Robots-Tag:noindex
X-PUBLISHED-TTL:PT1H
BEGIN:VTIMEZONE
TZID:Europe/London
BEGIN:DAYLIGHT
TZOFFSETFROM:+0000
TZOFFSETTO:+0100
TZNAME:BST
DTSTART:20220327T010000
END:DAYLIGHT
BEGIN:STANDARD
TZOFFSETFROM:+0100
TZOFFSETTO:+0000
TZNAME:GMT
DTSTART:20221030T010000
END:STANDARD
BEGIN:DAYLIGHT
TZOFFSETFROM:+0000
TZOFFSETTO:+0100
TZNAME:BST
DTSTART:20230326T010000
END:DAYLIGHT
BEGIN:STANDARD
TZOFFSETFROM:+0100
TZOFFSETTO:+0000
TZNAME:GMT
DTSTART:20231029T010000
END:STANDARD
BEGIN:DAYLIGHT
TZOFFSETFROM:+0000
TZOFFSETTO:+0100
TZNAME:BST
DTSTART:20240331T010000
END:DAYLIGHT
BEGIN:STANDARD
TZOFFSETFROM:+0100
TZOFFSETTO:+0000
TZNAME:GMT
DTSTART:20241027T010000
END:STANDARD
END:VTIMEZONE
BEGIN:VEVENT
DTSTART;TZID=Europe/London:20231128T180000
DTEND;TZID=Europe/London:20231128T200000
DTSTAMP:20260423T113052
CREATED:20231008T181126Z
LAST-MODIFIED:20231114T125548Z
UID:10000085-1701194400-1701201600@bugweedslimited.co.uk
SUMMARY:Adult and child - Learn to crochet for absolute beginners
DESCRIPTION:Join Debbie to learn how to crochet! This session is specifically designed for parents/carers and children. \nIn this session Debbie will teach you how to make chain\, double and treble crochet stitches. You will have the opportunity to practise those and gain confidence\, making a square with them. \nLeft or right handed. Everyone is welcome. \nTickets are per adult and child duo. If additional children would like to attend with you an additional ticket can be purchased. You will all share a table in our studio. Everyone will be provided with their own crochet hook and ball of yarn to use in the session and take away with them. \nWhat do I need to bring? \nNothing! Everything will be provided for you. \nPrevious experience required? \nNone\, this session is designed for absolute beginners.
URL:https://bugweedslimited.co.uk/event/adult-and-child-learn-to-crochet-for-absolute-beginners/
LOCATION:Bugweed’s Limited\, Bugweed's Limited\, Unit 3\, Marrtree Business Park\, Stirling Road\, York\, North Yorkshire\, YO30 4AB\, United Kingdom
CATEGORIES:Crochet
ATTACH;FMTTYPE=image/png:https://bugweedslimited.co.uk/wp-content/uploads/2023/10/Website-images-15.png
GEO:53.990512;-1.0966665
X-APPLE-STRUCTURED-LOCATION;VALUE=URI;X-ADDRESS=Bugweed’s Limited Bugweed's Limited Unit 3 Marrtree Business Park Stirling Road York North Yorkshire YO30 4AB United Kingdom;X-APPLE-RADIUS=500;X-TITLE=Bugweed's Limited\, Unit 3\, Marrtree Business Park\, Stirling Road:geo:-1.0966665,53.990512
END:VEVENT
BEGIN:VEVENT
DTSTART;TZID=Europe/London:20231129T100000
DTEND;TZID=Europe/London:20231129T123000
DTSTAMP:20260423T113052
CREATED:20230925T135125Z
LAST-MODIFIED:20231123T105151Z
UID:10000071-1701252000-1701261000@bugweedslimited.co.uk
SUMMARY:Me & My Little One
DESCRIPTION:Creative time for parents and carers\, calm time for babies. \nA social time for parents and carers with babies in arms to spend time being creative. You are welcome to come along and use our studio space. We will have toys and playmats on the floor for the babies. Hot and cold drinks for the adults. We also have a toilet and baby changing facilities. It’s all very relaxed.
URL:https://bugweedslimited.co.uk/event/me-my-little-one-6/
LOCATION:Bugweed’s Limited\, Bugweed's Limited\, Unit 3\, Marrtree Business Park\, Stirling Road\, York\, North Yorkshire\, YO30 4AB\, United Kingdom
CATEGORIES:Social
ATTACH;FMTTYPE=image/png:https://bugweedslimited.co.uk/wp-content/uploads/2023/09/Examples-of-branding-2.png
GEO:53.990512;-1.0966665
X-APPLE-STRUCTURED-LOCATION;VALUE=URI;X-ADDRESS=Bugweed’s Limited Bugweed's Limited Unit 3 Marrtree Business Park Stirling Road York North Yorkshire YO30 4AB United Kingdom;X-APPLE-RADIUS=500;X-TITLE=Bugweed's Limited\, Unit 3\, Marrtree Business Park\, Stirling Road:geo:-1.0966665,53.990512
END:VEVENT
END:VCALENDAR