BEGIN:VCALENDAR
VERSION:2.0
PRODID:-//Bugweeds Limited - ECPv6.15.20//NONSGML v1.0//EN
CALSCALE:GREGORIAN
METHOD:PUBLISH
X-WR-CALNAME:Bugweeds Limited
X-ORIGINAL-URL:https://bugweedslimited.co.uk
X-WR-CALDESC:Events for Bugweeds Limited
REFRESH-INTERVAL;VALUE=DURATION:PT1H
X-Robots-Tag:noindex
X-PUBLISHED-TTL:PT1H
BEGIN:VTIMEZONE
TZID:Europe/London
BEGIN:DAYLIGHT
TZOFFSETFROM:+0000
TZOFFSETTO:+0100
TZNAME:BST
DTSTART:20220327T010000
END:DAYLIGHT
BEGIN:STANDARD
TZOFFSETFROM:+0100
TZOFFSETTO:+0000
TZNAME:GMT
DTSTART:20221030T010000
END:STANDARD
BEGIN:DAYLIGHT
TZOFFSETFROM:+0000
TZOFFSETTO:+0100
TZNAME:BST
DTSTART:20230326T010000
END:DAYLIGHT
BEGIN:STANDARD
TZOFFSETFROM:+0100
TZOFFSETTO:+0000
TZNAME:GMT
DTSTART:20231029T010000
END:STANDARD
BEGIN:DAYLIGHT
TZOFFSETFROM:+0000
TZOFFSETTO:+0100
TZNAME:BST
DTSTART:20240331T010000
END:DAYLIGHT
BEGIN:STANDARD
TZOFFSETFROM:+0100
TZOFFSETTO:+0000
TZNAME:GMT
DTSTART:20241027T010000
END:STANDARD
END:VTIMEZONE
BEGIN:VEVENT
DTSTART;TZID=Europe/London:20231206T100000
DTEND;TZID=Europe/London:20231206T123000
DTSTAMP:20260423T090524
CREATED:20230925T135852Z
LAST-MODIFIED:20231123T105039Z
UID:10000072-1701856800-1701865800@bugweedslimited.co.uk
SUMMARY:Me & My Little One
DESCRIPTION:Creative time for parents and carers\, calm time for babies. \nA social time for parents and carers with babies in arms to spend time being creative. You are welcome to come along and use our studio space. We will have toys and playmats on the floor for the babies. Hot and cold drinks for the adults. We also have a toilet and baby changing facilities. It’s all very relaxed.
URL:https://bugweedslimited.co.uk/event/me-my-little-one-7/
LOCATION:Bugweed’s Limited\, Bugweed's Limited\, Unit 3\, Marrtree Business Park\, Stirling Road\, York\, North Yorkshire\, YO30 4AB\, United Kingdom
CATEGORIES:Social
ATTACH;FMTTYPE=image/png:https://bugweedslimited.co.uk/wp-content/uploads/2023/09/Examples-of-branding-2.png
GEO:53.990512;-1.0966665
X-APPLE-STRUCTURED-LOCATION;VALUE=URI;X-ADDRESS=Bugweed’s Limited Bugweed's Limited Unit 3 Marrtree Business Park Stirling Road York North Yorkshire YO30 4AB United Kingdom;X-APPLE-RADIUS=500;X-TITLE=Bugweed's Limited\, Unit 3\, Marrtree Business Park\, Stirling Road:geo:-1.0966665,53.990512
END:VEVENT
BEGIN:VEVENT
DTSTART;TZID=Europe/London:20231207T190000
DTEND;TZID=Europe/London:20231207T210000
DTSTAMP:20260423T090524
CREATED:20230815T084133Z
LAST-MODIFIED:20231123T112130Z
UID:10000019-1701975600-1701982800@bugweedslimited.co.uk
SUMMARY:Be you and craft
DESCRIPTION:A monthly session for socially anxious teens and their parents/carers. \nJoin us for some creative time in a safe\, accepting place. \nThis is a pay what you feel social session.
URL:https://bugweedslimited.co.uk/event/be-you-and-craft-4/
LOCATION:Bugweed’s Limited\, Bugweed's Limited\, Unit 3\, Marrtree Business Park\, Stirling Road\, York\, North Yorkshire\, YO30 4AB\, United Kingdom
CATEGORIES:Social
ATTACH;FMTTYPE=image/png:https://bugweedslimited.co.uk/wp-content/uploads/2023/08/Be-you-and-craft-general-and-monthly-Facebook-post.png
GEO:53.990512;-1.0966665
X-APPLE-STRUCTURED-LOCATION;VALUE=URI;X-ADDRESS=Bugweed’s Limited Bugweed's Limited Unit 3 Marrtree Business Park Stirling Road York North Yorkshire YO30 4AB United Kingdom;X-APPLE-RADIUS=500;X-TITLE=Bugweed's Limited\, Unit 3\, Marrtree Business Park\, Stirling Road:geo:-1.0966665,53.990512
END:VEVENT
BEGIN:VEVENT
DTSTART;TZID=Europe/London:20231208T100000
DTEND;TZID=Europe/London:20231208T150000
DTSTAMP:20260423T090524
CREATED:20230815T100657Z
LAST-MODIFIED:20231123T111500Z
UID:10000035-1702029600-1702047600@bugweedslimited.co.uk
SUMMARY:Quilt for Care Leavers Open Studio
DESCRIPTION:Do you love quilting and want to give back to our community? \nWhy not come along to our open studio day and quilt for one of our nominated charities\, Quilt for Care Leavers. \nBring your own blocks and fabric to work on or feel free to use fabric from our stash. Block patterns are available for inspiration. \nAll finished quilts will go to a loving home. \nThe studio is open all day. You are welcome to stay for as long as you like. We have plenty of space for you to spread out. Ironing equipment for the perfect press. Hot and cold drinks and a toilet. \nThe studio is available free of charge. We do ask you to book a place so we know how many people to expect.
URL:https://bugweedslimited.co.uk/event/quilt-for-care-leavers-open-studio-3/
LOCATION:Bugweed’s Limited\, Bugweed's Limited\, Unit 3\, Marrtree Business Park\, Stirling Road\, York\, North Yorkshire\, YO30 4AB\, United Kingdom
CATEGORIES:Charity
ATTACH;FMTTYPE=image/png:https://bugweedslimited.co.uk/wp-content/uploads/2023/08/Quilt-for-Care-Leavers-Facebook-post.png
GEO:53.990512;-1.0966665
X-APPLE-STRUCTURED-LOCATION;VALUE=URI;X-ADDRESS=Bugweed’s Limited Bugweed's Limited Unit 3 Marrtree Business Park Stirling Road York North Yorkshire YO30 4AB United Kingdom;X-APPLE-RADIUS=500;X-TITLE=Bugweed's Limited\, Unit 3\, Marrtree Business Park\, Stirling Road:geo:-1.0966665,53.990512
END:VEVENT
END:VCALENDAR