BEGIN:VCALENDAR
VERSION:2.0
PRODID:-//Bugweeds Limited - ECPv6.15.20//NONSGML v1.0//EN
CALSCALE:GREGORIAN
METHOD:PUBLISH
X-WR-CALNAME:Bugweeds Limited
X-ORIGINAL-URL:https://bugweedslimited.co.uk
X-WR-CALDESC:Events for Bugweeds Limited
REFRESH-INTERVAL;VALUE=DURATION:PT1H
X-Robots-Tag:noindex
X-PUBLISHED-TTL:PT1H
BEGIN:VTIMEZONE
TZID:Europe/London
BEGIN:DAYLIGHT
TZOFFSETFROM:+0000
TZOFFSETTO:+0100
TZNAME:BST
DTSTART:20230326T010000
END:DAYLIGHT
BEGIN:STANDARD
TZOFFSETFROM:+0100
TZOFFSETTO:+0000
TZNAME:GMT
DTSTART:20231029T010000
END:STANDARD
BEGIN:DAYLIGHT
TZOFFSETFROM:+0000
TZOFFSETTO:+0100
TZNAME:BST
DTSTART:20240331T010000
END:DAYLIGHT
BEGIN:STANDARD
TZOFFSETFROM:+0100
TZOFFSETTO:+0000
TZNAME:GMT
DTSTART:20241027T010000
END:STANDARD
BEGIN:DAYLIGHT
TZOFFSETFROM:+0000
TZOFFSETTO:+0100
TZNAME:BST
DTSTART:20250330T010000
END:DAYLIGHT
BEGIN:STANDARD
TZOFFSETFROM:+0100
TZOFFSETTO:+0000
TZNAME:GMT
DTSTART:20251026T010000
END:STANDARD
END:VTIMEZONE
BEGIN:VEVENT
DTSTART;TZID=Europe/London:20240206T103000
DTEND;TZID=Europe/London:20240206T150000
DTSTAMP:20260423T031643
CREATED:20240124T135149Z
LAST-MODIFIED:20240201T181754Z
UID:10000118-1707215400-1707231600@bugweedslimited.co.uk
SUMMARY:Beginners crochet
DESCRIPTION:Join Steffi and learn how to crochet in a day! \nIn this beginners crochet session Steffi will teach you the basics of crochet. You will learn how to hold the hook and yarn\, how to create chains and double crochet before moving on to half trebles and trebles. There will be plenty of time to practice what you have learnt. You can even have a go at creating your very own granny square where you’ll be working in the round and changing colours. \nAll materials and light refreshments (drinks and biscuits) are included. \nChildren ages 14+ are welcome to attend. They must be accompanied by an adult. If both adult and child would like to participate in the workshop please purchase two tickets. If only the child wishes to take part please purchase 1 ticket. \nLeft or right handed\, everyone is welcome. \nWhat do you need to bring? \nNothing for the workshop\, everything is provided for you. \nThere will be a half hour break for lunch so feel free to bring some with you. \nRequired  knowledge/experience \nNone\, this is suitable for absolute beginners. \nAbout our tutor \nSteffi Graves is a designer/maker specialising in micro crochet and jewellery making. She sells her finished work and crochet patterns on Etsy and has had her work featured in various magazines including Simply Crochet and Landscape Magazine. She is the author of 100 Micro Crochet Motifs and more recently 100 Micro Amigurumi.
URL:https://bugweedslimited.co.uk/event/beginners-crochet/
LOCATION:Bugweed’s Limited\, Bugweed's Limited\, Unit 3\, Marrtree Business Park\, Stirling Road\, York\, North Yorkshire\, YO30 4AB\, United Kingdom
CATEGORIES:Crochet
ATTACH;FMTTYPE=image/jpeg:https://bugweedslimited.co.uk/wp-content/uploads/2024/01/FDDA2064-D634-45FC-A870-E9A5921A7023.jpg
GEO:53.990512;-1.0966665
X-APPLE-STRUCTURED-LOCATION;VALUE=URI;X-ADDRESS=Bugweed’s Limited Bugweed's Limited Unit 3 Marrtree Business Park Stirling Road York North Yorkshire YO30 4AB United Kingdom;X-APPLE-RADIUS=500;X-TITLE=Bugweed's Limited\, Unit 3\, Marrtree Business Park\, Stirling Road:geo:-1.0966665,53.990512
END:VEVENT
BEGIN:VEVENT
DTSTART;TZID=Europe/London:20240209T100000
DTEND;TZID=Europe/London:20240209T150000
DTSTAMP:20260423T031643
CREATED:20230815T100937Z
LAST-MODIFIED:20231208T091948Z
UID:10000037-1707472800-1707490800@bugweedslimited.co.uk
SUMMARY:Quilt for Care Leavers Open Studio
DESCRIPTION:Do you love quilting and want to give back to our community? \nWhy not come along to our open studio day and quilt for one of our nominated charities\, Quilt for Care Leavers. \nBring your own blocks and fabric to work on or feel free to use fabric from our stash. Block patterns are available for inspiration. \nAll finished quilts will go to a loving home. \nThe studio is open all day. You are welcome to stay for as long as you like. We have plenty of space for you to spread out. Ironing equipment for the perfect press. Hot and cold drinks and a toilet. \nThe studio is available free of charge. We do ask you to book a place so we know how many people to expect.
URL:https://bugweedslimited.co.uk/event/quilt-for-care-leavers-open-studio-6/
LOCATION:Bugweed’s Limited\, Bugweed's Limited\, Unit 3\, Marrtree Business Park\, Stirling Road\, York\, North Yorkshire\, YO30 4AB\, United Kingdom
CATEGORIES:Charity
ATTACH;FMTTYPE=image/png:https://bugweedslimited.co.uk/wp-content/uploads/2023/08/Quilt-for-Care-Leavers-Facebook-post.png
GEO:53.990512;-1.0966665
X-APPLE-STRUCTURED-LOCATION;VALUE=URI;X-ADDRESS=Bugweed’s Limited Bugweed's Limited Unit 3 Marrtree Business Park Stirling Road York North Yorkshire YO30 4AB United Kingdom;X-APPLE-RADIUS=500;X-TITLE=Bugweed's Limited\, Unit 3\, Marrtree Business Park\, Stirling Road:geo:-1.0966665,53.990512
END:VEVENT
END:VCALENDAR