BEGIN:VCALENDAR
VERSION:2.0
PRODID:-//Bugweeds Limited - ECPv6.15.20//NONSGML v1.0//EN
CALSCALE:GREGORIAN
METHOD:PUBLISH
X-ORIGINAL-URL:https://bugweedslimited.co.uk
X-WR-CALDESC:Events for Bugweeds Limited
REFRESH-INTERVAL;VALUE=DURATION:PT1H
X-Robots-Tag:noindex
X-PUBLISHED-TTL:PT1H
BEGIN:VTIMEZONE
TZID:Europe/London
BEGIN:DAYLIGHT
TZOFFSETFROM:+0000
TZOFFSETTO:+0100
TZNAME:BST
DTSTART:20230326T010000
END:DAYLIGHT
BEGIN:STANDARD
TZOFFSETFROM:+0100
TZOFFSETTO:+0000
TZNAME:GMT
DTSTART:20231029T010000
END:STANDARD
BEGIN:DAYLIGHT
TZOFFSETFROM:+0000
TZOFFSETTO:+0100
TZNAME:BST
DTSTART:20240331T010000
END:DAYLIGHT
BEGIN:STANDARD
TZOFFSETFROM:+0100
TZOFFSETTO:+0000
TZNAME:GMT
DTSTART:20241027T010000
END:STANDARD
BEGIN:DAYLIGHT
TZOFFSETFROM:+0000
TZOFFSETTO:+0100
TZNAME:BST
DTSTART:20250330T010000
END:DAYLIGHT
BEGIN:STANDARD
TZOFFSETFROM:+0100
TZOFFSETTO:+0000
TZNAME:GMT
DTSTART:20251026T010000
END:STANDARD
END:VTIMEZONE
BEGIN:VEVENT
DTSTART;TZID=Europe/London:20240309T133000
DTEND;TZID=Europe/London:20240413T153000
DTSTAMP:20260420T081911
CREATED:20240216T130450Z
LAST-MODIFIED:20240307T192219Z
UID:10000131-1709991000-1713022200@bugweedslimited.co.uk
SUMMARY:Sewing School: Making trousers with an elasticated waist in the back
DESCRIPTION:Please note this is a two part workshop. Part 1 will take place on Saturday 9th March 1:30-4pm and part 2 Saturday 13th April 10:30-3:30pm. Payment covers both sessions. \nPart 1 Saturday 9th March 1:30-4pm \nThe pattern we will be using is The Closet Core Pietra. Please click here to view the pattern. The pdf pattern comes in 2 size options. Please let us know which size you would like when booking. \n\nIn this session we will accurately take our body measurements to determine what size or sizes we will need to use with the dressmaking pattern. We will then prepare our pattern and cut out our fabric\, transferring all pattern markings and finishing the raw edges with an overlocker. This means we will be ready to sew our trousers in the next session. \n\n\nThe size range is approximately UK 6-30 please use your body measurements compared to the sizing on the pattern\, do not use your ready to wear size to estimate the size needed on the pattern as they can vary significantly. \nMinor fitting issues such as grading between a couple of sizes\, or lengthening/shortening can be dealt with\, but fitting issue requiring more complex adjustments will not be possible in the time constraints of this session. If you typically experience fitting issues with ready to wear garments\, you should expect that you will need to adjust dressmaking patterns and the adjustments very much depend on the specific fitting issue. \nPart 2 Saturday 13th April 10:30-3:30pm \n\n\nIn this session we make our trousers with an elasticated waist in the back. All internal seams and raw edges will be overlocked. \n\n\nMinor fitting issues such as grading between a couple of sizes\, or lengthening/shortening can be dealt with\, but fitting issue requiring more complex adjustments will not be possible in the time constraints of this session. If you typically experience fitting issues with ready to wear garments\, you should expect that you will need to adjust dressmaking patterns and the adjustments very much depend on the specific fitting issue. \nRequired sewing knowledge/experience for both sessions \nYou need to have good basic knowledge of a sewing machine and be able to sew a straight stitch. You will need to be familiar with your machine and how to use it’s basic features such as winding and inserting the bobbin\, threading up your machine and needle\, changing the feet and needle and sewing a straight stitch. This session is not suitable for complete sewing machine beginners. \nYou also need a basic understanding of using a dressmaking pattern. This session is not suitable for absolute beginners that haven’t got experience of using a sewing machine or making clothes using dressmaking patterns. \nWhat will you need to bring for both sessions? \n\nYour sewing machine and instruction book\nPolyester thread\n2″ (50 mm) wide elastic (1 yd/0.9 m)\nLightweight non-stretch fusible interfacing (0.25 yd/0.25 m)\nFabric (see below for measurements and suggestions of fabric types)\n\nSuggested fabrics:  \n\nSuggested fabrics:  Structured wovens such as linen\, chambray\, or lightweight denim or twill (heavyweight wovens may create too much volume at the elastic waist) \n\n\nFabric requirements:  \n\n\n45″ (114 cm) wide fabric: \n\n\nView A (Full length): Sizes 0-14 = 3.25 yd (3 m) // 16-20 = 3.5 yd (3.2 m) \n\n\nView A (Cropped): Sizes 0-14 = 3 yd (2.75 m) // 16-20 = 3.25 yd (3 m) \n\n\nView B: Sizes 0-14 = 2.5 yd (2.25 m) // 16-20 = 3 yd (2.75 m) \n\n\nView C: Sizes 0-8 = 1.5 yd (1.4 m) // 10-20 = 1.75 yd (1.6 m) \n\n\n58″ (150 cm) wide fabric: \n\n\nView A (Full length): Sizes 0-14 = 2.5 yd (2.25 m) // 16-20 = 2.75 yd (2.5 m) \n\n\nView A (Cropped): Sizes 0-14 = 2.25 yd (2 m) // 16-20 = 2.5 yd (2.25 m) \n\n\nView B: Sizes 0-8 = 2 yd (1.85 m) // 10-20 = 2.25 yd (2 m) \n\n\nView C: Sizes 0-20 = 1.25 yd (1.15 m) \n\n\n\nIf you need to purchase any supplies for this workshop contact our sister company Bugweed’s Fabrics. All purchases need to be done before the workshop to allow the workshop to start on time.
URL:https://bugweedslimited.co.uk/event/sewing-school-making-trousers-with-an-elasticated-waist-in-the-back/
LOCATION:Bugweed’s Limited\, Bugweed's Limited\, Unit 3\, Marrtree Business Park\, Stirling Road\, York\, North Yorkshire\, YO30 4AB\, United Kingdom
CATEGORIES:Sewing
ATTACH;FMTTYPE=image/png:https://bugweedslimited.co.uk/wp-content/uploads/2024/01/3.png
GEO:53.990512;-1.0966665
X-APPLE-STRUCTURED-LOCATION;VALUE=URI;X-ADDRESS=Bugweed’s Limited Bugweed's Limited Unit 3 Marrtree Business Park Stirling Road York North Yorkshire YO30 4AB United Kingdom;X-APPLE-RADIUS=500;X-TITLE=Bugweed's Limited\, Unit 3\, Marrtree Business Park\, Stirling Road:geo:-1.0966665,53.990512
END:VEVENT
BEGIN:VEVENT
DTSTART;TZID=Europe/London:20240402T190000
DTEND;TZID=Europe/London:20240402T210000
DTSTAMP:20260420T081911
CREATED:20240110T132724Z
LAST-MODIFIED:20240110T132724Z
UID:10000115-1712084400-1712091600@bugweedslimited.co.uk
SUMMARY:Learn to crochet for absolute beginners
DESCRIPTION:Join Debbie to learn how to crochet! \nIn this session Debbie will teach you how to make chain\, double and treble crochet stitches. You will have the opportunity to practise those and gain confidence\, making a square with them. \nLeft or right handed. Everyone is welcome. \nWhat do I need to bring? \nNothing! Everything will be provided for you. You will have a crochet hook and ball of yarn to use in the session and take away with you. \nPrevious experience required? \nNone\, this session is designed for absolute beginners.
URL:https://bugweedslimited.co.uk/event/learn-to-crochet-for-absolute-beginners-4/
LOCATION:Bugweed’s Limited\, Bugweed's Limited\, Unit 3\, Marrtree Business Park\, Stirling Road\, York\, North Yorkshire\, YO30 4AB\, United Kingdom
CATEGORIES:Crochet
ATTACH;FMTTYPE=image/png:https://bugweedslimited.co.uk/wp-content/uploads/2024/01/Copy-of-Learn-to-crochet-for-beginners.png
GEO:53.990512;-1.0966665
X-APPLE-STRUCTURED-LOCATION;VALUE=URI;X-ADDRESS=Bugweed’s Limited Bugweed's Limited Unit 3 Marrtree Business Park Stirling Road York North Yorkshire YO30 4AB United Kingdom;X-APPLE-RADIUS=500;X-TITLE=Bugweed's Limited\, Unit 3\, Marrtree Business Park\, Stirling Road:geo:-1.0966665,53.990512
END:VEVENT
BEGIN:VEVENT
DTSTART;TZID=Europe/London:20240404T190000
DTEND;TZID=Europe/London:20240404T210000
DTSTAMP:20260420T081911
CREATED:20230815T084309Z
LAST-MODIFIED:20231208T092157Z
UID:10000023-1712257200-1712264400@bugweedslimited.co.uk
SUMMARY:Be you and craft
DESCRIPTION:A monthly session for socially anxious teens and their parents/carers. \nJoin us for some creative time in a safe\, accepting place. \nThis is a pay what you feel social session.
URL:https://bugweedslimited.co.uk/event/be-you-and-craft-8/
LOCATION:Bugweed’s Limited\, Bugweed's Limited\, Unit 3\, Marrtree Business Park\, Stirling Road\, York\, North Yorkshire\, YO30 4AB\, United Kingdom
CATEGORIES:Social
ATTACH;FMTTYPE=image/png:https://bugweedslimited.co.uk/wp-content/uploads/2023/08/Be-you-and-craft-general-and-monthly-Facebook-post.png
GEO:53.990512;-1.0966665
X-APPLE-STRUCTURED-LOCATION;VALUE=URI;X-ADDRESS=Bugweed’s Limited Bugweed's Limited Unit 3 Marrtree Business Park Stirling Road York North Yorkshire YO30 4AB United Kingdom;X-APPLE-RADIUS=500;X-TITLE=Bugweed's Limited\, Unit 3\, Marrtree Business Park\, Stirling Road:geo:-1.0966665,53.990512
END:VEVENT
END:VCALENDAR