BEGIN:VCALENDAR
VERSION:2.0
PRODID:-//Bugweeds Limited - ECPv6.15.20//NONSGML v1.0//EN
CALSCALE:GREGORIAN
METHOD:PUBLISH
X-ORIGINAL-URL:https://bugweedslimited.co.uk
X-WR-CALDESC:Events for Bugweeds Limited
REFRESH-INTERVAL;VALUE=DURATION:PT1H
X-Robots-Tag:noindex
X-PUBLISHED-TTL:PT1H
BEGIN:VTIMEZONE
TZID:Europe/London
BEGIN:DAYLIGHT
TZOFFSETFROM:+0000
TZOFFSETTO:+0100
TZNAME:BST
DTSTART:20230326T010000
END:DAYLIGHT
BEGIN:STANDARD
TZOFFSETFROM:+0100
TZOFFSETTO:+0000
TZNAME:GMT
DTSTART:20231029T010000
END:STANDARD
BEGIN:DAYLIGHT
TZOFFSETFROM:+0000
TZOFFSETTO:+0100
TZNAME:BST
DTSTART:20240331T010000
END:DAYLIGHT
BEGIN:STANDARD
TZOFFSETFROM:+0100
TZOFFSETTO:+0000
TZNAME:GMT
DTSTART:20241027T010000
END:STANDARD
BEGIN:DAYLIGHT
TZOFFSETFROM:+0000
TZOFFSETTO:+0100
TZNAME:BST
DTSTART:20250330T010000
END:DAYLIGHT
BEGIN:STANDARD
TZOFFSETFROM:+0100
TZOFFSETTO:+0000
TZNAME:GMT
DTSTART:20251026T010000
END:STANDARD
END:VTIMEZONE
BEGIN:VEVENT
DTSTART;TZID=Europe/London:20240430T190000
DTEND;TZID=Europe/London:20240430T210000
DTSTAMP:20260420T064622
CREATED:20240125T140858Z
LAST-MODIFIED:20240314T115309Z
UID:10000123-1714503600-1714510800@bugweedslimited.co.uk
SUMMARY:Crochet flowers
DESCRIPTION:Join Debbie and learn how to make crochet flowers! \nDebbie will show you how to use several crochet stitches to make a variety of different flower shapes. \nLeft or right handed. Everyone is welcome. \nWhat do I need to bring? \nEither a 3mm or 3.5mm crochet hook and DK yarn. If you would like to make multi coloured flowers please bring several colours of yarn with you. \nPrevious experience required? \nThis session is designed for beginners who have some experience of crochet. You should be able to do a chain and double crochet.
URL:https://bugweedslimited.co.uk/event/crochet-flowers/
LOCATION:Bugweed’s Limited\, Bugweed's Limited\, Unit 3\, Marrtree Business Park\, Stirling Road\, York\, North Yorkshire\, YO30 4AB\, United Kingdom
CATEGORIES:Crochet
ATTACH;FMTTYPE=image/png:https://bugweedslimited.co.uk/wp-content/uploads/2024/01/Copy-of-Crochet-amigurumi.png
GEO:53.990512;-1.0966665
X-APPLE-STRUCTURED-LOCATION;VALUE=URI;X-ADDRESS=Bugweed’s Limited Bugweed's Limited Unit 3 Marrtree Business Park Stirling Road York North Yorkshire YO30 4AB United Kingdom;X-APPLE-RADIUS=500;X-TITLE=Bugweed's Limited\, Unit 3\, Marrtree Business Park\, Stirling Road:geo:-1.0966665,53.990512
END:VEVENT
BEGIN:VEVENT
DTSTART;TZID=Europe/London:20240502T190000
DTEND;TZID=Europe/London:20240502T210000
DTSTAMP:20260420T064622
CREATED:20230815T084439Z
LAST-MODIFIED:20240430T184750Z
UID:10000024-1714676400-1714683600@bugweedslimited.co.uk
SUMMARY:Be you and craft
DESCRIPTION:A monthly session for socially anxious teens and their parents/carers. \nJoin us for some creative time in a safe\, accepting place. \nThis is a pay what you feel social session.
URL:https://bugweedslimited.co.uk/event/be-you-and-craft-9/
LOCATION:Bugweed’s Limited\, Bugweed's Limited\, Unit 3\, Marrtree Business Park\, Stirling Road\, York\, North Yorkshire\, YO30 4AB\, United Kingdom
CATEGORIES:Social
ATTACH;FMTTYPE=image/png:https://bugweedslimited.co.uk/wp-content/uploads/2023/08/Be-you-and-craft-general-and-monthly-Facebook-post.png
GEO:53.990512;-1.0966665
X-APPLE-STRUCTURED-LOCATION;VALUE=URI;X-ADDRESS=Bugweed’s Limited Bugweed's Limited Unit 3 Marrtree Business Park Stirling Road York North Yorkshire YO30 4AB United Kingdom;X-APPLE-RADIUS=500;X-TITLE=Bugweed's Limited\, Unit 3\, Marrtree Business Park\, Stirling Road:geo:-1.0966665,53.990512
END:VEVENT
BEGIN:VEVENT
DTSTART;TZID=Europe/London:20240504T103000
DTEND;TZID=Europe/London:20240504T130000
DTSTAMP:20260420T064622
CREATED:20240411T135524Z
LAST-MODIFIED:20240412T185245Z
UID:10000149-1714818600-1714827600@bugweedslimited.co.uk
SUMMARY:Sew your own appliqué cushion cover
DESCRIPTION:Learn how to sew your very own appliqué cushion cover with our experienced tutor. \nKaty who will guide you through all of the steps. You will learn how to: \n\nmeasure and cut from a pattern\nset up the sewing machine\nsew plain seams\ninsert a zip\nuse a range of fabrics to applique a unique pattern onto your own cushion cover\n\nWhat do I need to bring? \nJust your sewing machine. Everything else will be provided to make the cushion cover. Please note the cushion insert will not be provided. If you have one you wish to use for your cover feel free to bring that with you as well. \nPrevious experience required? \nThis workshop is suitable for advanced beginners. You need to have good basic knowledge of a sewing machine and be able to sew a straight stitch. You will need to be familiar with your machine and how to use it’s basic features such as winding and inserting the bobbin\, threading up your machine and needle\, changing the feet and needle and sewing a straight stitch. This session is not suitable for complete sewing machine beginners.
URL:https://bugweedslimited.co.uk/event/sew-your-own-applique-cushion-cover/
LOCATION:Bugweed’s Limited\, Bugweed's Limited\, Unit 3\, Marrtree Business Park\, Stirling Road\, York\, North Yorkshire\, YO30 4AB\, United Kingdom
CATEGORIES:Sewing
ATTACH;FMTTYPE=image/png:https://bugweedslimited.co.uk/wp-content/uploads/2024/04/Applique-cushion-cover-4.png
GEO:53.990512;-1.0966665
X-APPLE-STRUCTURED-LOCATION;VALUE=URI;X-ADDRESS=Bugweed’s Limited Bugweed's Limited Unit 3 Marrtree Business Park Stirling Road York North Yorkshire YO30 4AB United Kingdom;X-APPLE-RADIUS=500;X-TITLE=Bugweed's Limited\, Unit 3\, Marrtree Business Park\, Stirling Road:geo:-1.0966665,53.990512
END:VEVENT
END:VCALENDAR