BEGIN:VCALENDAR
VERSION:2.0
PRODID:-//Bugweeds Limited - ECPv6.15.20//NONSGML v1.0//EN
CALSCALE:GREGORIAN
METHOD:PUBLISH
X-ORIGINAL-URL:https://bugweedslimited.co.uk
X-WR-CALDESC:Events for Bugweeds Limited
REFRESH-INTERVAL;VALUE=DURATION:PT1H
X-Robots-Tag:noindex
X-PUBLISHED-TTL:PT1H
BEGIN:VTIMEZONE
TZID:Europe/London
BEGIN:DAYLIGHT
TZOFFSETFROM:+0000
TZOFFSETTO:+0100
TZNAME:BST
DTSTART:20230326T010000
END:DAYLIGHT
BEGIN:STANDARD
TZOFFSETFROM:+0100
TZOFFSETTO:+0000
TZNAME:GMT
DTSTART:20231029T010000
END:STANDARD
BEGIN:DAYLIGHT
TZOFFSETFROM:+0000
TZOFFSETTO:+0100
TZNAME:BST
DTSTART:20240331T010000
END:DAYLIGHT
BEGIN:STANDARD
TZOFFSETFROM:+0100
TZOFFSETTO:+0000
TZNAME:GMT
DTSTART:20241027T010000
END:STANDARD
BEGIN:DAYLIGHT
TZOFFSETFROM:+0000
TZOFFSETTO:+0100
TZNAME:BST
DTSTART:20250330T010000
END:DAYLIGHT
BEGIN:STANDARD
TZOFFSETFROM:+0100
TZOFFSETTO:+0000
TZNAME:GMT
DTSTART:20251026T010000
END:STANDARD
END:VTIMEZONE
BEGIN:VEVENT
DTSTART;TZID=Europe/London:20240612T103000
DTEND;TZID=Europe/London:20240612T143000
DTSTAMP:20260420T030908
CREATED:20240415T190553Z
LAST-MODIFIED:20240415T190553Z
UID:10000152-1718188200-1718202600@bugweedslimited.co.uk
SUMMARY:Introduction to customising patterns
DESCRIPTION:This session is all about customising patterns to make them more accessible and suitable for different needs. Gill will share her hints and tips on different ways patterns can be customised. By the end of the session you will: \n\nHave adjusted a pattern to move the opening/closure\nHave adjusted a pattern to change the closure type e.g. from a zip to snaps\nHave adjusted a pattern to add an opening on a seam where typically there might not be one to make access easier\n\nThis is a paper based workshop so sewing machines will not be needed. \n\nWhat do you need to bring? \nNothing\, everything will be provided. \nRequired sewing knowledge/experience \nYou need to have good basic knowledge of a sewing machine and be able to sew a straight stitch. \nYou also need a basic understanding of using a garment pattern. This session is not suitable for absolute beginners that haven’t got experience of using a sewing machine or making clothes using garment patterns.
URL:https://bugweedslimited.co.uk/event/introduction-to-customising-patterns/
LOCATION:Bugweed’s Limited\, Bugweed's Limited\, Unit 3\, Marrtree Business Park\, Stirling Road\, York\, North Yorkshire\, YO30 4AB\, United Kingdom
CATEGORIES:Sewing
ATTACH;FMTTYPE=image/png:https://bugweedslimited.co.uk/wp-content/uploads/2024/04/Sewing-School-2.png
GEO:53.990512;-1.0966665
X-APPLE-STRUCTURED-LOCATION;VALUE=URI;X-ADDRESS=Bugweed’s Limited Bugweed's Limited Unit 3 Marrtree Business Park Stirling Road York North Yorkshire YO30 4AB United Kingdom;X-APPLE-RADIUS=500;X-TITLE=Bugweed's Limited\, Unit 3\, Marrtree Business Park\, Stirling Road:geo:-1.0966665,53.990512
END:VEVENT
BEGIN:VEVENT
DTSTART;TZID=Europe/London:20240614T100000
DTEND;TZID=Europe/London:20240614T150000
DTSTAMP:20260420T030908
CREATED:20230815T101129Z
LAST-MODIFIED:20240430T190040Z
UID:10000041-1718359200-1718377200@bugweedslimited.co.uk
SUMMARY:Quilt for Care Leavers Open Studio
DESCRIPTION:Do you love quilting and want to give back to our community? \nWhy not come along to our open studio day and quilt for one of our nominated charities\, Quilt for Care Leavers. \nBring your own blocks and fabric to work on or feel free to use fabric from our stash. Block patterns are available for inspiration. \nAll finished quilts will go to a loving home. \nThe studio is open all day. You are welcome to stay for as long as you like. We have plenty of space for you to spread out. Ironing equipment for the perfect press. Hot and cold drinks and a toilet. \nThe studio is available free of charge. We do ask you to book a place so we know how many people to expect.
URL:https://bugweedslimited.co.uk/event/quilt-for-care-leavers-open-studio-10/
LOCATION:Bugweed’s Limited\, Bugweed's Limited\, Unit 3\, Marrtree Business Park\, Stirling Road\, York\, North Yorkshire\, YO30 4AB\, United Kingdom
CATEGORIES:Charity
ATTACH;FMTTYPE=image/png:https://bugweedslimited.co.uk/wp-content/uploads/2023/08/Q4CL-website-image.png
GEO:53.990512;-1.0966665
X-APPLE-STRUCTURED-LOCATION;VALUE=URI;X-ADDRESS=Bugweed’s Limited Bugweed's Limited Unit 3 Marrtree Business Park Stirling Road York North Yorkshire YO30 4AB United Kingdom;X-APPLE-RADIUS=500;X-TITLE=Bugweed's Limited\, Unit 3\, Marrtree Business Park\, Stirling Road:geo:-1.0966665,53.990512
END:VEVENT
END:VCALENDAR