BEGIN:VCALENDAR
VERSION:2.0
PRODID:-//Bugweeds Limited - ECPv6.15.20//NONSGML v1.0//EN
CALSCALE:GREGORIAN
METHOD:PUBLISH
X-WR-CALNAME:Bugweeds Limited
X-ORIGINAL-URL:https://bugweedslimited.co.uk
X-WR-CALDESC:Events for Bugweeds Limited
REFRESH-INTERVAL;VALUE=DURATION:PT1H
X-Robots-Tag:noindex
X-PUBLISHED-TTL:PT1H
BEGIN:VTIMEZONE
TZID:Europe/London
BEGIN:DAYLIGHT
TZOFFSETFROM:+0000
TZOFFSETTO:+0100
TZNAME:BST
DTSTART:20230326T010000
END:DAYLIGHT
BEGIN:STANDARD
TZOFFSETFROM:+0100
TZOFFSETTO:+0000
TZNAME:GMT
DTSTART:20231029T010000
END:STANDARD
BEGIN:DAYLIGHT
TZOFFSETFROM:+0000
TZOFFSETTO:+0100
TZNAME:BST
DTSTART:20240331T010000
END:DAYLIGHT
BEGIN:STANDARD
TZOFFSETFROM:+0100
TZOFFSETTO:+0000
TZNAME:GMT
DTSTART:20241027T010000
END:STANDARD
BEGIN:DAYLIGHT
TZOFFSETFROM:+0000
TZOFFSETTO:+0100
TZNAME:BST
DTSTART:20250330T010000
END:DAYLIGHT
BEGIN:STANDARD
TZOFFSETFROM:+0100
TZOFFSETTO:+0000
TZNAME:GMT
DTSTART:20251026T010000
END:STANDARD
END:VTIMEZONE
BEGIN:VEVENT
DTSTART;TZID=Europe/London:20240629T133000
DTEND;TZID=Europe/London:20240629T153000
DTSTAMP:20260420T063840
CREATED:20240530T132257Z
LAST-MODIFIED:20240530T132403Z
UID:10000162-1719667800-1719675000@bugweedslimited.co.uk
SUMMARY:Block of the Month
DESCRIPTION:This month Helen will show you how to create the orange peel block. \n   \nThis workshop is suitable for beginners to quilting. You will need to be familiar with your machine and how to use it’s basic features such as winding and inserting the bobbin\, threading up your machine and needle\, changing the feet and needle and sewing a straight stitch. This session is not suitable for complete sewing machine beginners however\, you do not need to have any experience of quilting. You must have a 1/4″ foot or the ability to move your needle to the 1/4″ seam allowance. \nWhat do you need to bring for one sample block? \n\nSewing machine\nPlain background fabric (x 1 fat quarter)\n4 fat quarter fabrics or scraps which contrast against the background\, either plain or non directional small prints. (The fabric pieces need to be at least 5″ square)\n1/4 meter of light weight iron on fusible (very important it’s lightweight and it has a fusible side)\nChopstick or a  tool suitable for turning out points\nThread which blends with all the contrast fabric\nYou must have a 1/4″ foot or the ability to move your needle to the 1/4″ seam allowance\nFabric marking pen\nRuler\nRotary cutter\nScissors\n\nRequired sewing knowledge/experience \nThis workshop is suitable for beginners to quilting. You will need to be familiar with your machine and how to use it’s basic features such as winding and inserting the bobbin\, threading up your machine and needle\, changing the feet and needle and sewing a straight stitch. This session is not suitable for complete sewing machine beginners however\, you do not need to have any experience of quilting. You must have a 1/4″ foot or the ability to move your needle to the 1/4″ seam allowance
URL:https://bugweedslimited.co.uk/event/block-of-the-month-9/
LOCATION:Bugweed’s Limited\, Bugweed's Limited\, Unit 3\, Marrtree Business Park\, Stirling Road\, York\, North Yorkshire\, YO30 4AB\, United Kingdom
CATEGORIES:Quilting
ATTACH;FMTTYPE=image/png:https://bugweedslimited.co.uk/wp-content/uploads/2024/05/January-2024-Block-of-the-Month-.png
GEO:53.990512;-1.0966665
X-APPLE-STRUCTURED-LOCATION;VALUE=URI;X-ADDRESS=Bugweed’s Limited Bugweed's Limited Unit 3 Marrtree Business Park Stirling Road York North Yorkshire YO30 4AB United Kingdom;X-APPLE-RADIUS=500;X-TITLE=Bugweed's Limited\, Unit 3\, Marrtree Business Park\, Stirling Road:geo:-1.0966665,53.990512
END:VEVENT
END:VCALENDAR