BEGIN:VCALENDAR
VERSION:2.0
PRODID:-//Bugweeds Limited - ECPv6.15.20//NONSGML v1.0//EN
CALSCALE:GREGORIAN
METHOD:PUBLISH
X-WR-CALNAME:Bugweeds Limited
X-ORIGINAL-URL:https://bugweedslimited.co.uk
X-WR-CALDESC:Events for Bugweeds Limited
REFRESH-INTERVAL;VALUE=DURATION:PT1H
X-Robots-Tag:noindex
X-PUBLISHED-TTL:PT1H
BEGIN:VTIMEZONE
TZID:Europe/London
BEGIN:DAYLIGHT
TZOFFSETFROM:+0000
TZOFFSETTO:+0100
TZNAME:BST
DTSTART:20240331T010000
END:DAYLIGHT
BEGIN:STANDARD
TZOFFSETFROM:+0100
TZOFFSETTO:+0000
TZNAME:GMT
DTSTART:20241027T010000
END:STANDARD
BEGIN:DAYLIGHT
TZOFFSETFROM:+0000
TZOFFSETTO:+0100
TZNAME:BST
DTSTART:20250330T010000
END:DAYLIGHT
BEGIN:STANDARD
TZOFFSETFROM:+0100
TZOFFSETTO:+0000
TZNAME:GMT
DTSTART:20251026T010000
END:STANDARD
BEGIN:DAYLIGHT
TZOFFSETFROM:+0000
TZOFFSETTO:+0100
TZNAME:BST
DTSTART:20260329T010000
END:DAYLIGHT
BEGIN:STANDARD
TZOFFSETFROM:+0100
TZOFFSETTO:+0000
TZNAME:GMT
DTSTART:20261025T010000
END:STANDARD
END:VTIMEZONE
BEGIN:VEVENT
DTSTART;TZID=Europe/London:20250701T130000
DTEND;TZID=Europe/London:20250701T150000
DTSTAMP:20260421T200059
CREATED:20250415T201549Z
LAST-MODIFIED:20250415T201549Z
UID:10000244-1751374800-1751382000@bugweedslimited.co.uk
SUMMARY:Stitch@Starbucks
DESCRIPTION:Here at Bugweed’s we love a good chat\, time for craft and a tasty cuppa! This weekly session brings you all three of those in one free group! \nJoin us at Clifton Moor Starbucks every Tuesday (including through the school holidays) from 1pm till 3pm for a guaranteed friendly welcome and discounted refreshments supplied by the lovely staff of Starbucks. \nNo need to book but if you would like to be part of our active WhatsApp group where we share yarn ideas and check how many people are coming\, please get in touch and we can add you! Please note – this group is growing and space can be limited so if you can let us know if you would like to come\, it does help! \nWhat shall I bring? \n\nyour project\nmoney for a drink if you would like one\na good sense of humour!!
URL:https://bugweedslimited.co.uk/event/stitchstarbucks/2025-07-01/
LOCATION:Starbucks\, Clifton Moor\, Stirling Road\, York\, North Yorkshire\, YO30 4TU\, United Kingdom
CATEGORIES:Social
ATTACH;FMTTYPE=image/jpeg:https://bugweedslimited.co.uk/wp-content/uploads/2025/03/IMG_4530.jpeg
END:VEVENT
BEGIN:VEVENT
DTSTART;TZID=Europe/London:20250703T103000
DTEND;TZID=Europe/London:20250703T133000
DTSTAMP:20260421T200059
CREATED:20250525T161623Z
LAST-MODIFIED:20250527T193353Z
UID:10001031-1751538600-1751549400@bugweedslimited.co.uk
SUMMARY:Quilting Bees
DESCRIPTION:Our Quilting Bees social group gives you the opportunity to work on you piecing\, quilting or bag making projects. Our wonderful tutor\, Graham from Farrcorner Quilting\, will be on hand to offer support and advice when needed. \nAs a special bonus for attending Quilting Bees\, there will be a very special discount on a chosen sewing tool\, fabric range\, pattern or haberdashery item for all attendees! The discounted item will be shared with the group by Graham and you might even be tempted in to purchasing! \nKeep your eyes on our social media to find out what the discounted item will be! \nWhat shall I bring? \n\nSewing machine\nSewing supplies\nA smile and some chat!
URL:https://bugweedslimited.co.uk/event/quilting-bees-6/
LOCATION:Bugweed’s Limited\, Bugweed's Limited\, Unit 3\, Marrtree Business Park\, Stirling Road\, York\, North Yorkshire\, YO30 4AB\, United Kingdom
CATEGORIES:Quilting,Social
ATTACH;FMTTYPE=image/jpeg:https://bugweedslimited.co.uk/wp-content/uploads/2025/05/IMG_5041.jpeg
GEO:53.990512;-1.0966665
X-APPLE-STRUCTURED-LOCATION;VALUE=URI;X-ADDRESS=Bugweed’s Limited Bugweed's Limited Unit 3 Marrtree Business Park Stirling Road York North Yorkshire YO30 4AB United Kingdom;X-APPLE-RADIUS=500;X-TITLE=Bugweed's Limited\, Unit 3\, Marrtree Business Park\, Stirling Road:geo:-1.0966665,53.990512
END:VEVENT
BEGIN:VEVENT
DTSTART;TZID=Europe/London:20250705T100000
DTEND;TZID=Europe/London:20250705T160000
DTSTAMP:20260421T200059
CREATED:20250607T141557Z
LAST-MODIFIED:20250607T141557Z
UID:10001043-1751709600-1751731200@bugweedslimited.co.uk
SUMMARY:Bugweed's Sewing School - Stevie Tunic in a day!
DESCRIPTION:Please note this is a whole day workshop. \nOne payment covers the workshop and pattern. Fabric is not included for this workshop but you will be able to enjoy a 10% discount on all purchases at Bugweed’s ready for the day! \nSaturday 5th July 10.00am – 4.00pm \n\nEnjoy a whole day’s garment making using this fantastic Tilly And The Buttons pattern. The Stevie tunic is the perfect introduction to dress making and offers both a short and long version without fastenings so no buttonholes or zips to get your head round! Choose from a top or above the knee dress length. \nCatie will guide you through reading the pattern\, cutting out the fabric and sewing up the garment. There will be a new techniques to learn such as sewing a button loop or neck ties and a patch pocket. \nPlease note that you will need to bring your fabric with you for the sewing day. There is further guidance below regarding how much you will need. \n\n\n\n\nRequired sewing knowledge/experience for both sessions\n\n\n\nYou need to be able to change stitches\, stitch length and stitch width on your machine. This workshop is aimed at beginners but not sewers who have never used a machine before! \nIt would be useful if you are familiar with your machine and how to use it’s basic features such as winding and inserting the bobbin\, threading up your machine and needle. \nWhat will you need to bring for both sessions? \n\n\n\nYour sewing machine and instruction book\nFabric and thread… please see tables below for fabric requirements. If you need any help just get in touch!                                                        \nEnthusiasm!\n\n\nMachines are available to hire so please let us know if you would like to use one of our machines.
URL:https://bugweedslimited.co.uk/event/bugweeds-sewing-school-stevie-tunic-in-a-day/
LOCATION:Bugweed’s Limited\, Bugweed's Limited\, Unit 3\, Marrtree Business Park\, Stirling Road\, York\, North Yorkshire\, YO30 4AB\, United Kingdom
CATEGORIES:Sewing
ATTACH;FMTTYPE=image/jpeg:https://bugweedslimited.co.uk/wp-content/uploads/2025/06/IMG_5169.jpeg
GEO:53.990512;-1.0966665
X-APPLE-STRUCTURED-LOCATION;VALUE=URI;X-ADDRESS=Bugweed’s Limited Bugweed's Limited Unit 3 Marrtree Business Park Stirling Road York North Yorkshire YO30 4AB United Kingdom;X-APPLE-RADIUS=500;X-TITLE=Bugweed's Limited\, Unit 3\, Marrtree Business Park\, Stirling Road:geo:-1.0966665,53.990512
END:VEVENT
END:VCALENDAR