BEGIN:VCALENDAR
VERSION:2.0
PRODID:-//Bugweeds Limited - ECPv6.15.20//NONSGML v1.0//EN
CALSCALE:GREGORIAN
METHOD:PUBLISH
X-WR-CALNAME:Bugweeds Limited
X-ORIGINAL-URL:https://bugweedslimited.co.uk
X-WR-CALDESC:Events for Bugweeds Limited
REFRESH-INTERVAL;VALUE=DURATION:PT1H
X-Robots-Tag:noindex
X-PUBLISHED-TTL:PT1H
BEGIN:VTIMEZONE
TZID:Europe/London
BEGIN:DAYLIGHT
TZOFFSETFROM:+0000
TZOFFSETTO:+0100
TZNAME:BST
DTSTART:20240331T010000
END:DAYLIGHT
BEGIN:STANDARD
TZOFFSETFROM:+0100
TZOFFSETTO:+0000
TZNAME:GMT
DTSTART:20241027T010000
END:STANDARD
BEGIN:DAYLIGHT
TZOFFSETFROM:+0000
TZOFFSETTO:+0100
TZNAME:BST
DTSTART:20250330T010000
END:DAYLIGHT
BEGIN:STANDARD
TZOFFSETFROM:+0100
TZOFFSETTO:+0000
TZNAME:GMT
DTSTART:20251026T010000
END:STANDARD
BEGIN:DAYLIGHT
TZOFFSETFROM:+0000
TZOFFSETTO:+0100
TZNAME:BST
DTSTART:20260329T010000
END:DAYLIGHT
BEGIN:STANDARD
TZOFFSETFROM:+0100
TZOFFSETTO:+0000
TZNAME:GMT
DTSTART:20261025T010000
END:STANDARD
END:VTIMEZONE
BEGIN:VEVENT
DTSTART;TZID=Europe/London:20250729T130000
DTEND;TZID=Europe/London:20250729T150000
DTSTAMP:20260420T174823
CREATED:20250415T201549Z
LAST-MODIFIED:20250415T201549Z
UID:10000248-1753794000-1753801200@bugweedslimited.co.uk
SUMMARY:Stitch@Starbucks
DESCRIPTION:Here at Bugweed’s we love a good chat\, time for craft and a tasty cuppa! This weekly session brings you all three of those in one free group! \nJoin us at Clifton Moor Starbucks every Tuesday (including through the school holidays) from 1pm till 3pm for a guaranteed friendly welcome and discounted refreshments supplied by the lovely staff of Starbucks. \nNo need to book but if you would like to be part of our active WhatsApp group where we share yarn ideas and check how many people are coming\, please get in touch and we can add you! Please note – this group is growing and space can be limited so if you can let us know if you would like to come\, it does help! \nWhat shall I bring? \n\nyour project\nmoney for a drink if you would like one\na good sense of humour!!
URL:https://bugweedslimited.co.uk/event/stitchstarbucks/2025-07-29/
LOCATION:Starbucks\, Clifton Moor\, Stirling Road\, York\, North Yorkshire\, YO30 4TU\, United Kingdom
CATEGORIES:Social
ATTACH;FMTTYPE=image/jpeg:https://bugweedslimited.co.uk/wp-content/uploads/2025/03/IMG_4530.jpeg
END:VEVENT
BEGIN:VEVENT
DTSTART;TZID=Europe/London:20250730T100000
DTEND;TZID=Europe/London:20250730T160000
DTSTAMP:20260420T174823
CREATED:20250716T205853Z
LAST-MODIFIED:20250716T205853Z
UID:10001059-1753869600-1753891200@bugweedslimited.co.uk
SUMMARY:Space to Craft
DESCRIPTION:Space to Craft \nDesperate for space to lay out your project and have a couple of hours to work on it? Sometimes the table at home just isn’t big enough for large projects that need a flat surface. Whether it’s layering a quilt\, cutting out a garment pattern or planning and drafting your own pattern\, we have the answer here at Bugweed’s! \nRent a table for 2\, 4 or 6 hours on specific days and make use of our large tables. There are 5 spaces for morning and afternoon to make sure you get lots of table space. \nPlease note\, there is no tutoring with this session. Our staff will be busy in the shop and although we are always happy to help our community\, we will only be able to answer quick questions and make sure you have a cuppa!
URL:https://bugweedslimited.co.uk/event/space-to-craft-14/
LOCATION:Bugweed’s Limited\, Bugweed's Limited\, Unit 3\, Marrtree Business Park\, Stirling Road\, York\, North Yorkshire\, YO30 4AB\, United Kingdom
CATEGORIES:Rent a table,Sewing
ATTACH;FMTTYPE=image/png:https://bugweedslimited.co.uk/wp-content/uploads/2025/05/1.png
GEO:53.990512;-1.0966665
X-APPLE-STRUCTURED-LOCATION;VALUE=URI;X-ADDRESS=Bugweed’s Limited Bugweed's Limited Unit 3 Marrtree Business Park Stirling Road York North Yorkshire YO30 4AB United Kingdom;X-APPLE-RADIUS=500;X-TITLE=Bugweed's Limited\, Unit 3\, Marrtree Business Park\, Stirling Road:geo:-1.0966665,53.990512
END:VEVENT
BEGIN:VEVENT
DTSTART;TZID=Europe/London:20250731T103000
DTEND;TZID=Europe/London:20250731T130000
DTSTAMP:20260420T174823
CREATED:20250716T163044Z
LAST-MODIFIED:20250716T163044Z
UID:10001052-1753957800-1753966800@bugweedslimited.co.uk
SUMMARY:Bloom Together - Jiggling Jellyfish!
DESCRIPTION:Our summer holiday workshops are all about creativity through textiles and media and are aimed at children and adults developing their skills in a range of skills and more importantly a chance to create and develop a love of being free to create. \nJoin Debbie on this child and adult workshop to create a jellyfish mobile from organdy. This useful fabric is a lightweight\, sheer cotton which holds its shape well making it perfect for textile sculpture. \nAdd decoration using haberdashery such as ribbons and beads and let your creativity loose on trimmings to make your jellyfish really stand out! \nAll materials are included in the price so just come with your enthusiasm! There will be a short break in the workshop with refreshments. \nWe are a neurodivergent friendly studio and understand that some people need more breaks than others. If you or your child requires workshop adjustments please get in touch and let us know. We are more than happy to accommodate a range of needs. \nPlease note\, this workshop is for children over 8 years old. We welcome up to 2 children with each adult.  \nPlease book the same amount of tickets as jellyfish that are to be made ie an adult and a child each making a jellyfish will book 2 tickets\, a child making a jellyfish with their adult accompanying them for support will book 1 ticket. 
URL:https://bugweedslimited.co.uk/event/bloom-together-jiggling-jellyfish/
LOCATION:Bugweed’s Limited\, Bugweed's Limited\, Unit 3\, Marrtree Business Park\, Stirling Road\, York\, North Yorkshire\, YO30 4AB\, United Kingdom
CATEGORIES:Children's workshop,Sewing,textile art
ATTACH;FMTTYPE=image/png:https://bugweedslimited.co.uk/wp-content/uploads/2025/07/2.png
GEO:53.990512;-1.0966665
X-APPLE-STRUCTURED-LOCATION;VALUE=URI;X-ADDRESS=Bugweed’s Limited Bugweed's Limited Unit 3 Marrtree Business Park Stirling Road York North Yorkshire YO30 4AB United Kingdom;X-APPLE-RADIUS=500;X-TITLE=Bugweed's Limited\, Unit 3\, Marrtree Business Park\, Stirling Road:geo:-1.0966665,53.990512
END:VEVENT
END:VCALENDAR